BEGIN:VCALENDAR
VERSION:2.0
PRODID:-//AusschreibungsRadar//Timeline//DE
CALSCALE:GREGORIAN
METHOD:PUBLISH
X-WR-CALNAME:Projekt Umbau Haus 4 zu einer Flexiblen Tagesklinik - Versorgungstec
X-WR-TIMEZONE:Europe/Berlin
BEGIN:VEVENT
UID:f9b7f3c72649c241@ausschreibungsradar.com
DTSTAMP:20260425T111658Z
DTSTART;VALUE=DATE:20260518
DTEND;VALUE=DATE:20260518
SUMMARY:Angebotsfrist — Umbau Haus 4 zu einer Flexiblen Tagesklinik - Versorgungstec
DESCRIPTION:Phase: Ausschreibung | Beschreibung: Angebote werden eingeholt | Link: https://ausschreibungsradar.com/ausschreibung/6407492e-dc4f-4ec3-8f09-c038808113be/
URL:https://ausschreibungsradar.com/ausschreibung/6407492e-dc4f-4ec3-8f09-c038808113be/
END:VEVENT
BEGIN:VEVENT
UID:66336d935d5b8cca@ausschreibungsradar.com
DTSTAMP:20260425T111658Z
DTSTART;VALUE=DATE:20260420
DTEND;VALUE=DATE:20260420
SUMMARY:Ausschreibung — Umbau Haus 4 zu einer Flexiblen Tagesklinik - Versorgungstec
DESCRIPTION:Phase: Ausschreibung | Beschreibung: Offizielle Ausschreibung mit Bieterfrist. | Link: https://ausschreibungsradar.com/ausschreibung/0d0c8c4a-d29f-471f-b5b4-cfa59e999a61/
URL:https://ausschreibungsradar.com/ausschreibung/0d0c8c4a-d29f-471f-b5b4-cfa59e999a61/
END:VEVENT
END:VCALENDAR
