BEGIN:VCALENDAR
VERSION:2.0
PRODID:-//AusschreibungsRadar//Timeline//DE
CALSCALE:GREGORIAN
METHOD:PUBLISH
X-WR-CALNAME:Projekt Weiterentwicklung sowie Erweiterung um eine überwiegend inte
X-WR-TIMEZONE:Europe/Berlin
BEGIN:VEVENT
UID:4cef978f9dee4e79@ausschreibungsradar.com
DTSTAMP:20260425T190750Z
DTSTART;VALUE=DATE:20241220
DTEND;VALUE=DATE:20241220
SUMMARY:Ausschreibung — Weiterentwicklung sowie Erweiterung um eine überwiegend inte
DESCRIPTION:Phase: Ausschreibung | Beschreibung: Angebote werden eingeholt | Link: https://ausschreibungsradar.com/ausschreibung/d18493d5-ecae-45a8-bbf4-fe1299d11906/
URL:https://ausschreibungsradar.com/ausschreibung/d18493d5-ecae-45a8-bbf4-fe1299d11906/
END:VEVENT
BEGIN:VEVENT
UID:69849cdbd58d138f@ausschreibungsradar.com
DTSTAMP:20260425T190750Z
DTSTART;VALUE=DATE:20250630
DTEND;VALUE=DATE:20250630
SUMMARY:Vergabeergebnis — Weiterentwicklung sowie Erweiterung um eine überwiegend inte
DESCRIPTION:Phase: Vergabeergebnis | Beschreibung: Auftrag wurde zugeschlagen | Link: https://ausschreibungsradar.com/ausschreibung/642f6eab-9629-4cb6-bae7-0a5f0e3536fc/
URL:https://ausschreibungsradar.com/ausschreibung/642f6eab-9629-4cb6-bae7-0a5f0e3536fc/
END:VEVENT
END:VCALENDAR
