BEGIN:VCALENDAR
VERSION:2.0
PRODID:-//AusschreibungsRadar//Timeline//DE
CALSCALE:GREGORIAN
METHOD:PUBLISH
X-WR-CALNAME:Projekt Unterhalts- und Grundreinigung Gemeinde Rottendorf
X-WR-TIMEZONE:Europe/Berlin
BEGIN:VEVENT
UID:8ab6d35670c08e42@ausschreibungsradar.com
DTSTAMP:20260425T015635Z
DTSTART;VALUE=DATE:20240627
DTEND;VALUE=DATE:20240627
SUMMARY:Angebotsfrist — Unterhalts- und Grundreinigung Gemeinde Rottendorf
DESCRIPTION:Phase: Ausschreibung | Beschreibung: Angebote werden eingeholt | Link: https://ausschreibungsradar.com/ausschreibung/6430ce17-88b1-4142-93bb-8d3ae072efc5/
URL:https://ausschreibungsradar.com/ausschreibung/6430ce17-88b1-4142-93bb-8d3ae072efc5/
END:VEVENT
END:VCALENDAR
