BEGIN:VCALENDAR
VERSION:2.0
PRODID:-//AusschreibungsRadar//Timeline//DE
CALSCALE:GREGORIAN
METHOD:PUBLISH
X-WR-CALNAME:Projekt Elektroarbeiten zur Sanierung des Hallen- und Freibades in 3
X-WR-TIMEZONE:Europe/Berlin
BEGIN:VEVENT
UID:edc372f95b95fc11@ausschreibungsradar.com
DTSTAMP:20260425T121513Z
DTSTART;VALUE=DATE:20250930
DTEND;VALUE=DATE:20250930
SUMMARY:Angebotsfrist — Elektroarbeiten zur Sanierung des Hallen- und Freibades in 3
DESCRIPTION:Phase: Ausschreibung | Beschreibung: Angebote werden eingeholt | Link: https://ausschreibungsradar.com/ausschreibung/64382847-e777-4887-9a9f-68689ad959ef/
URL:https://ausschreibungsradar.com/ausschreibung/64382847-e777-4887-9a9f-68689ad959ef/
END:VEVENT
BEGIN:VEVENT
UID:ee2049808c523f4f@ausschreibungsradar.com
DTSTAMP:20260425T121513Z
DTSTART;VALUE=DATE:20250818
DTEND;VALUE=DATE:20250818
SUMMARY:Ausschreibung — Elektroarbeiten zur Sanierung des Hallen- und Freibades in 3
DESCRIPTION:Phase: Ausschreibung | Beschreibung: Offizielle Ausschreibung mit Bieterfrist. | Link: https://ausschreibungsradar.com/ausschreibung/2ac29fc4-1b32-4eff-9e31-ec6a4218e2e8/
URL:https://ausschreibungsradar.com/ausschreibung/2ac29fc4-1b32-4eff-9e31-ec6a4218e2e8/
END:VEVENT
BEGIN:VEVENT
UID:43c2aa1fafe71ac1@ausschreibungsradar.com
DTSTAMP:20260425T121513Z
DTSTART;VALUE=DATE:20250818
DTEND;VALUE=DATE:20250818
SUMMARY:Ausschreibung — Elektroarbeiten zur Sanierung des Hallen- und Freibades in 3
DESCRIPTION:Phase: Ausschreibung | Beschreibung: Offizielle Ausschreibung mit Bieterfrist. | Link: https://ausschreibungsradar.com/ausschreibung/c9adcb8b-b49f-42a2-a1e0-34449d90e343/
URL:https://ausschreibungsradar.com/ausschreibung/c9adcb8b-b49f-42a2-a1e0-34449d90e343/
END:VEVENT
BEGIN:VEVENT
UID:9fc1e686fe512dc4@ausschreibungsradar.com
DTSTAMP:20260425T121513Z
DTSTART;VALUE=DATE:20251216
DTEND;VALUE=DATE:20251216
SUMMARY:Vergabeergebnis — Elektroarbeiten zur Sanierung des Hallen- und Freibades in 3
DESCRIPTION:Phase: Vergabeergebnis | Beschreibung: Auftrag wurde zugeschlagen | Link: https://ausschreibungsradar.com/ausschreibung/a2409355-4541-43dc-ba11-d73bdf7db809/
URL:https://ausschreibungsradar.com/ausschreibung/a2409355-4541-43dc-ba11-d73bdf7db809/
END:VEVENT
END:VCALENDAR
