BEGIN:VCALENDAR
VERSION:2.0
PRODID:-//AusschreibungsRadar//Timeline//DE
CALSCALE:GREGORIAN
METHOD:PUBLISH
X-WR-CALNAME:Projekt Neubau Kupferblümchen: Los 5 - Dach (inkl. Gründachaufbau)
X-WR-TIMEZONE:Europe/Berlin
BEGIN:VEVENT
UID:9f37c9be21434223@ausschreibungsradar.com
DTSTAMP:20260425T181358Z
DTSTART;VALUE=DATE:20250627
DTEND;VALUE=DATE:20250627
SUMMARY:Angebotsfrist — Neubau Kupferblümchen: Los 5 - Dach (inkl. Gründachaufbau)
DESCRIPTION:Phase: Ausschreibung | Beschreibung: Angebote werden eingeholt | Link: https://ausschreibungsradar.com/ausschreibung/64dfb938-f027-43e7-be5d-28472bf4c416/
URL:https://ausschreibungsradar.com/ausschreibung/64dfb938-f027-43e7-be5d-28472bf4c416/
END:VEVENT
END:VCALENDAR
