BEGIN:VCALENDAR
VERSION:2.0
PRODID:-//AusschreibungsRadar//Timeline//DE
CALSCALE:GREGORIAN
METHOD:PUBLISH
X-WR-CALNAME:Projekt Realisierungswettbewerb „Dorfgemeinschaftshaus Radolfzell- B
X-WR-TIMEZONE:Europe/Berlin
BEGIN:VEVENT
UID:29b15e30f86bea46@ausschreibungsradar.com
DTSTAMP:20260424T181208Z
DTSTART;VALUE=DATE:20240322
DTEND;VALUE=DATE:20240322
SUMMARY:Ausschreibung — Realisierungswettbewerb „Dorfgemeinschaftshaus Radolfzell- B
DESCRIPTION:Phase: Ausschreibung | Beschreibung: Angebote werden eingeholt | Link: https://ausschreibungsradar.com/ausschreibung/dc0b2445-2b46-484e-acf6-e260052b0cdd/
URL:https://ausschreibungsradar.com/ausschreibung/dc0b2445-2b46-484e-acf6-e260052b0cdd/
END:VEVENT
BEGIN:VEVENT
UID:c0a16b92bf01bc78@ausschreibungsradar.com
DTSTAMP:20260424T181208Z
DTSTART;VALUE=DATE:20250401
DTEND;VALUE=DATE:20250401
SUMMARY:Vergabeergebnis — Realisierungswettbewerb „Dorfgemeinschaftshaus Radolfzell- B
DESCRIPTION:Phase: Vergabeergebnis | Beschreibung: Auftrag wurde zugeschlagen | Link: https://ausschreibungsradar.com/ausschreibung/64f13fc3-fab9-4cac-ba5c-ffe0abbb21d3/ | Auftragnehmer: schaudt architekten GmbH
URL:https://ausschreibungsradar.com/ausschreibung/64f13fc3-fab9-4cac-ba5c-ffe0abbb21d3/
END:VEVENT
END:VCALENDAR
