BEGIN:VCALENDAR
VERSION:2.0
PRODID:-//AusschreibungsRadar//Timeline//DE
CALSCALE:GREGORIAN
METHOD:PUBLISH
X-WR-CALNAME:Projekt Neubau Klinik Hohe Mark, 3. Bauabschnitt, Gewerk: Trockenbau
X-WR-TIMEZONE:Europe/Berlin
BEGIN:VEVENT
UID:5664e73abba2c86f@ausschreibungsradar.com
DTSTAMP:20260426T023639Z
DTSTART;VALUE=DATE:20241217
DTEND;VALUE=DATE:20241217
SUMMARY:Angebotsfrist — Neubau Klinik Hohe Mark\, 3. Bauabschnitt\, Gewerk: Trockenbau
DESCRIPTION:Phase: Ausschreibung | Beschreibung: Angebote werden eingeholt | Link: https://ausschreibungsradar.com/ausschreibung/bcdc3fc4-e9e2-4e04-a894-4060140aaf21/
URL:https://ausschreibungsradar.com/ausschreibung/bcdc3fc4-e9e2-4e04-a894-4060140aaf21/
END:VEVENT
BEGIN:VEVENT
UID:8472f81a1583004e@ausschreibungsradar.com
DTSTAMP:20260426T023639Z
DTSTART;VALUE=DATE:20241105
DTEND;VALUE=DATE:20241105
SUMMARY:Ausschreibung — Neubau Klinik Hohe Mark\, 3. Bauabschnitt\, Gewerk: Trockenbau
DESCRIPTION:Phase: Ausschreibung | Beschreibung: Offizielle Ausschreibung mit Bieterfrist. | Link: https://ausschreibungsradar.com/ausschreibung/a4bfb899-82ce-410c-be94-a88755738c7d/
URL:https://ausschreibungsradar.com/ausschreibung/a4bfb899-82ce-410c-be94-a88755738c7d/
END:VEVENT
BEGIN:VEVENT
UID:ba62595c93a88029@ausschreibungsradar.com
DTSTAMP:20260426T023639Z
DTSTART;VALUE=DATE:20241105
DTEND;VALUE=DATE:20241105
SUMMARY:Ausschreibung — Neubau Klinik Hohe Mark\, 3. Bauabschnitt\, Gewerk: Trockenbau
DESCRIPTION:Phase: Ausschreibung | Beschreibung: Offizielle Ausschreibung mit Bieterfrist. | Link: https://ausschreibungsradar.com/ausschreibung/f32157ca-1a40-4e35-b737-b817a8313a8a/
URL:https://ausschreibungsradar.com/ausschreibung/f32157ca-1a40-4e35-b737-b817a8313a8a/
END:VEVENT
BEGIN:VEVENT
UID:559dee3db2e7b6eb@ausschreibungsradar.com
DTSTAMP:20260426T023639Z
DTSTART;VALUE=DATE:20250207
DTEND;VALUE=DATE:20250207
SUMMARY:Ausschreibung — Neubau Klinik Hohe Mark\, 3. Bauabschnitt\, Gewerk: Trockenbau
DESCRIPTION:Phase: Ausschreibung | Beschreibung: Offizielle Ausschreibung mit Bieterfrist. | Link: https://ausschreibungsradar.com/ausschreibung/80d8df10-3af7-4962-b06b-1b31d27087ee/
URL:https://ausschreibungsradar.com/ausschreibung/80d8df10-3af7-4962-b06b-1b31d27087ee/
END:VEVENT
BEGIN:VEVENT
UID:d7ac10bd4f396c9c@ausschreibungsradar.com
DTSTAMP:20260426T023639Z
DTSTART;VALUE=DATE:20250211
DTEND;VALUE=DATE:20250211
SUMMARY:Zuschlag — Neubau Klinik Hohe Mark\, 3. Bauabschnitt\, Gewerk: Trockenbau
DESCRIPTION:Phase: Zuschlag | Beschreibung: Vergabeergebnis — Auftrag wurde erteilt oder Verfahren beendet. | Link: https://ausschreibungsradar.com/ausschreibung/7bc469f2-3f6a-401c-bd57-272fd3877ae5/
URL:https://ausschreibungsradar.com/ausschreibung/7bc469f2-3f6a-401c-bd57-272fd3877ae5/
END:VEVENT
BEGIN:VEVENT
UID:db86102a9f229e21@ausschreibungsradar.com
DTSTAMP:20260426T023639Z
DTSTART;VALUE=DATE:20250305
DTEND;VALUE=DATE:20250305
SUMMARY:Vergabeergebnis — Neubau Klinik Hohe Mark\, 3. Bauabschnitt\, Gewerk: Trockenbau
DESCRIPTION:Phase: Vergabeergebnis | Beschreibung: Auftrag wurde zugeschlagen | Link: https://ausschreibungsradar.com/ausschreibung/64f443f2-c982-4785-bbe4-4925c37e6791/
URL:https://ausschreibungsradar.com/ausschreibung/64f443f2-c982-4785-bbe4-4925c37e6791/
END:VEVENT
END:VCALENDAR
