BEGIN:VCALENDAR
VERSION:2.0
PRODID:-//AusschreibungsRadar//Timeline//DE
CALSCALE:GREGORIAN
METHOD:PUBLISH
X-WR-CALNAME:Projekt Technisch-bauliche Bestandsaufnahmen
X-WR-TIMEZONE:Europe/Berlin
BEGIN:VEVENT
UID:e6dd85b27a5fdd54@ausschreibungsradar.com
DTSTAMP:20260425T034547Z
DTSTART;VALUE=DATE:20250702
DTEND;VALUE=DATE:20250702
SUMMARY:Ausschreibung — Technisch-bauliche Bestandsaufnahmen
DESCRIPTION:Phase: Ausschreibung | Beschreibung: Angebote werden eingeholt | Link: https://ausschreibungsradar.com/ausschreibung/65271250-d38e-47f5-a02a-95eb48e468d7/
URL:https://ausschreibungsradar.com/ausschreibung/65271250-d38e-47f5-a02a-95eb48e468d7/
END:VEVENT
BEGIN:VEVENT
UID:464936d575b5a719@ausschreibungsradar.com
DTSTAMP:20260425T034547Z
DTSTART;VALUE=DATE:20250702
DTEND;VALUE=DATE:20250702
SUMMARY:Ausschreibung — Technisch-bauliche Bestandsaufnahmen
DESCRIPTION:Phase: Ausschreibung | Beschreibung: Offizielle Ausschreibung mit Bieterfrist. | Link: https://ausschreibungsradar.com/ausschreibung/0691b22f-f60c-4b66-af60-71d30f8be20d/
URL:https://ausschreibungsradar.com/ausschreibung/0691b22f-f60c-4b66-af60-71d30f8be20d/
END:VEVENT
BEGIN:VEVENT
UID:9756c2f667cae356@ausschreibungsradar.com
DTSTAMP:20260425T034547Z
DTSTART;VALUE=DATE:20251229
DTEND;VALUE=DATE:20251229
SUMMARY:Vergabeergebnis — Technisch-bauliche Bestandsaufnahmen
DESCRIPTION:Phase: Vergabeergebnis | Beschreibung: Auftrag wurde zugeschlagen | Link: https://ausschreibungsradar.com/ausschreibung/3b805f5c-2831-44f7-9480-6f53412e9d64/
URL:https://ausschreibungsradar.com/ausschreibung/3b805f5c-2831-44f7-9480-6f53412e9d64/
END:VEVENT
END:VCALENDAR
