BEGIN:VCALENDAR
VERSION:2.0
PRODID:-//AusschreibungsRadar//Timeline//DE
CALSCALE:GREGORIAN
METHOD:PUBLISH
X-WR-CALNAME:Projekt MKK: Stadtschule Schlüchtern, Hausalarm- und elektroakutisch
X-WR-TIMEZONE:Europe/Berlin
BEGIN:VEVENT
UID:6b22b7c80c242624@ausschreibungsradar.com
DTSTAMP:20260424T203551Z
DTSTART;VALUE=DATE:20240404
DTEND;VALUE=DATE:20240404
SUMMARY:Ausschreibung — MKK: Stadtschule Schlüchtern\, Hausalarm- und elektroakutisch
DESCRIPTION:Phase: Ausschreibung | Beschreibung: Angebote werden eingeholt | Link: https://ausschreibungsradar.com/ausschreibung/e7170646-6e18-48e1-863f-a512c50daa02/
URL:https://ausschreibungsradar.com/ausschreibung/e7170646-6e18-48e1-863f-a512c50daa02/
END:VEVENT
BEGIN:VEVENT
UID:ac17fd500c1379ce@ausschreibungsradar.com
DTSTAMP:20260424T203551Z
DTSTART;VALUE=DATE:20240604
DTEND;VALUE=DATE:20240604
SUMMARY:Zuschlag — MKK: Stadtschule Schlüchtern\, Hausalarm- und elektroakutisch
DESCRIPTION:Phase: Zuschlag | Beschreibung: Vergabeergebnis — Auftrag wurde erteilt oder Verfahren beendet. | Link: https://ausschreibungsradar.com/ausschreibung/bcf2c828-aa93-4db6-b29a-4a78ae81439a/
URL:https://ausschreibungsradar.com/ausschreibung/bcf2c828-aa93-4db6-b29a-4a78ae81439a/
END:VEVENT
BEGIN:VEVENT
UID:21d38633f8911a22@ausschreibungsradar.com
DTSTAMP:20260424T203551Z
DTSTART;VALUE=DATE:20240611
DTEND;VALUE=DATE:20240611
SUMMARY:Vergabeergebnis — MKK: Stadtschule Schlüchtern\, Hausalarm- und elektroakutisch
DESCRIPTION:Phase: Vergabeergebnis | Beschreibung: Auftrag wurde zugeschlagen | Link: https://ausschreibungsradar.com/ausschreibung/65503447-2a37-4e88-b2f3-a5b67954f99d/
URL:https://ausschreibungsradar.com/ausschreibung/65503447-2a37-4e88-b2f3-a5b67954f99d/
END:VEVENT
BEGIN:VEVENT
UID:44e1ff90171aa610@ausschreibungsradar.com
DTSTAMP:20260424T203551Z
DTSTART;VALUE=DATE:20240613
DTEND;VALUE=DATE:20240613
SUMMARY:Ausschreibung — MKK: Stadtschule Schlüchtern\, Hausalarm- und elektroakutisch
DESCRIPTION:Phase: Ausschreibung | Beschreibung: Offizielle Ausschreibung mit Bieterfrist. | Link: https://ausschreibungsradar.com/ausschreibung/8c08c3dc-6d71-49ca-a04a-453f63ec4e74/
URL:https://ausschreibungsradar.com/ausschreibung/8c08c3dc-6d71-49ca-a04a-453f63ec4e74/
END:VEVENT
END:VCALENDAR
