BEGIN:VCALENDAR
VERSION:2.0
PRODID:-//AusschreibungsRadar//Timeline//DE
CALSCALE:GREGORIAN
METHOD:PUBLISH
X-WR-CALNAME:Projekt Folgelizenzen für Confluence, Jira und Service Management 20
X-WR-TIMEZONE:Europe/Berlin
BEGIN:VEVENT
UID:0128c466efc463dc@ausschreibungsradar.com
DTSTAMP:20260424T192333Z
DTSTART;VALUE=DATE:20250714
DTEND;VALUE=DATE:20250714
SUMMARY:Angebotsfrist — Folgelizenzen für Confluence\, Jira und Service Management 20
DESCRIPTION:Phase: Ausschreibung | Beschreibung: Angebote werden eingeholt | Link: https://ausschreibungsradar.com/ausschreibung/6689e7d7-68ec-4fb2-b8dd-b870e61c5f5a/
URL:https://ausschreibungsradar.com/ausschreibung/6689e7d7-68ec-4fb2-b8dd-b870e61c5f5a/
END:VEVENT
BEGIN:VEVENT
UID:b937b059ed0a97d2@ausschreibungsradar.com
DTSTAMP:20260424T192333Z
DTSTART;VALUE=DATE:20250626
DTEND;VALUE=DATE:20250626
SUMMARY:Vergabeergebnis — Folgelizenzen für Confluence\, Jira und Service Management 20
DESCRIPTION:Phase: Vergabeergebnis | Beschreibung: Bedarf hat sich geändert | Link: https://ausschreibungsradar.com/ausschreibung/4d2e117d-aa6f-4691-98d6-861ed3b694c8/
URL:https://ausschreibungsradar.com/ausschreibung/4d2e117d-aa6f-4691-98d6-861ed3b694c8/
END:VEVENT
END:VCALENDAR
