BEGIN:VCALENDAR
VERSION:2.0
PRODID:-//AusschreibungsRadar//Timeline//DE
CALSCALE:GREGORIAN
METHOD:PUBLISH
X-WR-CALNAME:Projekt Erweiterungsbau Kindergarten und Wohnungen
X-WR-TIMEZONE:Europe/Berlin
BEGIN:VEVENT
UID:ea300909c5ed92f0@ausschreibungsradar.com
DTSTAMP:20260424T222327Z
DTSTART;VALUE=DATE:20240917
DTEND;VALUE=DATE:20240917
SUMMARY:Vorinformation — Erweiterungsbau Kindergarten und Wohnungen
DESCRIPTION:Phase: Vorinformation | Beschreibung: Vorab-Ankündigung der Vergabestelle — keine verbindliche Ausschreibung. | Link: https://ausschreibungsradar.com/ausschreibung/a26d952a-b288-4b7c-8b82-365b34d86448
URL:https://ausschreibungsradar.com/ausschreibung/a26d952a-b288-4b7c-8b82-365b34d86448/
END:VEVENT
BEGIN:VEVENT
UID:736c6fc80b081eae@ausschreibungsradar.com
DTSTAMP:20260424T222327Z
DTSTART;VALUE=DATE:20240918
DTEND;VALUE=DATE:20240918
SUMMARY:Vorinformation — Erweiterungsbau Kindergarten und Wohnungen
DESCRIPTION:Phase: Vorinformation | Beschreibung: Vorab-Ankündigung der Vergabestelle — keine verbindliche Ausschreibung. | Link: https://ausschreibungsradar.com/ausschreibung/66db7478-b5d9-4b98-a15a-98ce7c4f9abc
URL:https://ausschreibungsradar.com/ausschreibung/66db7478-b5d9-4b98-a15a-98ce7c4f9abc/
END:VEVENT
END:VCALENDAR
