BEGIN:VCALENDAR
VERSION:2.0
PRODID:-//AusschreibungsRadar//Timeline//DE
CALSCALE:GREGORIAN
METHOD:PUBLISH
X-WR-CALNAME:Projekt Erweiterung Grundschule Gendorf Elektrotechnik
X-WR-TIMEZONE:Europe/Berlin
BEGIN:VEVENT
UID:b6c10c3981709289@ausschreibungsradar.com
DTSTAMP:20260426T023600Z
DTSTART;VALUE=DATE:20250912
DTEND;VALUE=DATE:20250912
SUMMARY:Angebotsfrist — Erweiterung Grundschule Gendorf Elektrotechnik
DESCRIPTION:Phase: Ausschreibung | Beschreibung: Angebote werden eingeholt | Link: https://ausschreibungsradar.com/ausschreibung/187a42ce-54ef-470f-8084-2b479a1a510e/
URL:https://ausschreibungsradar.com/ausschreibung/187a42ce-54ef-470f-8084-2b479a1a510e/
END:VEVENT
BEGIN:VEVENT
UID:1e3f75549fed8142@ausschreibungsradar.com
DTSTAMP:20260426T023600Z
DTSTART;VALUE=DATE:20251006
DTEND;VALUE=DATE:20251006
SUMMARY:Ausschreibung — Erweiterung Grundschule Gendorf Elektrotechnik
DESCRIPTION:Phase: Ausschreibung | Beschreibung: Offizielle Ausschreibung mit Bieterfrist. | Link: https://ausschreibungsradar.com/ausschreibung/ad578089-f27f-4603-a203-6cca40942ae0/
URL:https://ausschreibungsradar.com/ausschreibung/ad578089-f27f-4603-a203-6cca40942ae0/
END:VEVENT
BEGIN:VEVENT
UID:20939f5271dd975c@ausschreibungsradar.com
DTSTAMP:20260426T023600Z
DTSTART;VALUE=DATE:20251028
DTEND;VALUE=DATE:20251028
SUMMARY:Zuschlag — Erweiterung Grundschule Gendorf Elektrotechnik
DESCRIPTION:Phase: Zuschlag | Beschreibung: Vergabeergebnis — Auftrag wurde erteilt oder Verfahren beendet. | Link: https://ausschreibungsradar.com/ausschreibung/bc2512d2-a3da-4794-a525-d9dfc814a7c9/
URL:https://ausschreibungsradar.com/ausschreibung/bc2512d2-a3da-4794-a525-d9dfc814a7c9/
END:VEVENT
BEGIN:VEVENT
UID:215a5ebbba18f199@ausschreibungsradar.com
DTSTAMP:20260426T023600Z
DTSTART;VALUE=DATE:20251029
DTEND;VALUE=DATE:20251029
SUMMARY:Vergabeergebnis — Erweiterung Grundschule Gendorf Elektrotechnik
DESCRIPTION:Phase: Vergabeergebnis | Beschreibung: Auftrag wurde zugeschlagen | Link: https://ausschreibungsradar.com/ausschreibung/66f66916-747c-44b0-87b7-a1bfb6f406e9/
URL:https://ausschreibungsradar.com/ausschreibung/66f66916-747c-44b0-87b7-a1bfb6f406e9/
END:VEVENT
END:VCALENDAR
