BEGIN:VCALENDAR
VERSION:2.0
PRODID:-//AusschreibungsRadar//Timeline//DE
CALSCALE:GREGORIAN
METHOD:PUBLISH
X-WR-CALNAME:Projekt Neubau Kinderhaus Reichenbach - Planerauswahlverfahren Freia
X-WR-TIMEZONE:Europe/Berlin
BEGIN:VEVENT
UID:a1c8cb0a1a45df3b@ausschreibungsradar.com
DTSTAMP:20260425T213636Z
DTSTART;VALUE=DATE:20240319
DTEND;VALUE=DATE:20240319
SUMMARY:Ausschreibung — Neubau Kinderhaus Reichenbach - Planerauswahlverfahren Freia
DESCRIPTION:Phase: Ausschreibung | Beschreibung: Angebote werden eingeholt | Link: https://ausschreibungsradar.com/ausschreibung/39eee7cb-4096-498a-a0a7-433bb7a69185/
URL:https://ausschreibungsradar.com/ausschreibung/39eee7cb-4096-498a-a0a7-433bb7a69185/
END:VEVENT
BEGIN:VEVENT
UID:23837fab17f2103e@ausschreibungsradar.com
DTSTAMP:20260425T213636Z
DTSTART;VALUE=DATE:20240319
DTEND;VALUE=DATE:20240319
SUMMARY:Ausschreibung — Neubau Kinderhaus Reichenbach - Planerauswahlverfahren Freia
DESCRIPTION:Phase: Ausschreibung | Beschreibung: Offizielle Ausschreibung mit Bieterfrist. | Link: https://ausschreibungsradar.com/ausschreibung/db90ecf6-706b-44b3-93fd-9382daf1d140/
URL:https://ausschreibungsradar.com/ausschreibung/db90ecf6-706b-44b3-93fd-9382daf1d140/
END:VEVENT
BEGIN:VEVENT
UID:11a86d834fff1234@ausschreibungsradar.com
DTSTAMP:20260425T213636Z
DTSTART;VALUE=DATE:20240904
DTEND;VALUE=DATE:20240904
SUMMARY:Vergabeergebnis — Neubau Kinderhaus Reichenbach - Planerauswahlverfahren Freia
DESCRIPTION:Phase: Vergabeergebnis | Beschreibung: Auftrag wurde zugeschlagen | Link: https://ausschreibungsradar.com/ausschreibung/670f1e7a-536b-44a9-bb19-fd7b10c637ac/
URL:https://ausschreibungsradar.com/ausschreibung/670f1e7a-536b-44a9-bb19-fd7b10c637ac/
END:VEVENT
BEGIN:VEVENT
UID:67d0137802acf67a@ausschreibungsradar.com
DTSTAMP:20260425T213636Z
DTSTART;VALUE=DATE:20240904
DTEND;VALUE=DATE:20240904
SUMMARY:Zuschlag — Neubau Kinderhaus Reichenbach - Planerauswahlverfahren Freia
DESCRIPTION:Phase: Zuschlag | Beschreibung: Vergabeergebnis — Auftrag wurde erteilt oder Verfahren beendet. | Link: https://ausschreibungsradar.com/ausschreibung/a4fb3182-5242-4137-acbf-37ce7fa63b7d/
URL:https://ausschreibungsradar.com/ausschreibung/a4fb3182-5242-4137-acbf-37ce7fa63b7d/
END:VEVENT
END:VCALENDAR
