BEGIN:VCALENDAR
VERSION:2.0
PRODID:-//AusschreibungsRadar//Timeline//DE
CALSCALE:GREGORIAN
METHOD:PUBLISH
X-WR-CALNAME:Projekt Prozessüberwachung SCM
X-WR-TIMEZONE:Europe/Berlin
BEGIN:VEVENT
UID:3c74ba42e550836b@ausschreibungsradar.com
DTSTAMP:20260425T111543Z
DTSTART;VALUE=DATE:20250930
DTEND;VALUE=DATE:20250930
SUMMARY:Angebotsfrist — Prozessüberwachung SCM
DESCRIPTION:Phase: Ausschreibung | Beschreibung: Angebote werden eingeholt | Link: https://ausschreibungsradar.com/ausschreibung/67991857-832a-4c46-aecc-77e233795fda/
URL:https://ausschreibungsradar.com/ausschreibung/67991857-832a-4c46-aecc-77e233795fda/
END:VEVENT
BEGIN:VEVENT
UID:6c959f23b5d51d35@ausschreibungsradar.com
DTSTAMP:20260425T111543Z
DTSTART;VALUE=DATE:20251103
DTEND;VALUE=DATE:20251103
SUMMARY:Vergabeergebnis — Prozessüberwachung SCM
DESCRIPTION:Phase: Vergabeergebnis | Beschreibung: Auftrag wurde zugeschlagen | Link: https://ausschreibungsradar.com/ausschreibung/fd6c643b-df5d-4e1a-8632-285190d44506/
URL:https://ausschreibungsradar.com/ausschreibung/fd6c643b-df5d-4e1a-8632-285190d44506/
END:VEVENT
END:VCALENDAR
