BEGIN:VCALENDAR
VERSION:2.0
PRODID:-//AusschreibungsRadar//Timeline//DE
CALSCALE:GREGORIAN
METHOD:PUBLISH
X-WR-CALNAME:Projekt Universitätsklinikum Münster - Gebäude 3800 - Brandschutzsan
X-WR-TIMEZONE:Europe/Berlin
BEGIN:VEVENT
UID:409e4b10176f5d9e@ausschreibungsradar.com
DTSTAMP:20260425T173732Z
DTSTART;VALUE=DATE:20231201
DTEND;VALUE=DATE:20231201
SUMMARY:Angebotsfrist — Universitätsklinikum Münster - Gebäude 3800 - Brandschutzsan
DESCRIPTION:Phase: Ausschreibung | Beschreibung: Angebote werden eingeholt | Link: https://ausschreibungsradar.com/ausschreibung/7005c750-1972-47bc-859a-d6ac9abe2fd2/
URL:https://ausschreibungsradar.com/ausschreibung/7005c750-1972-47bc-859a-d6ac9abe2fd2/
END:VEVENT
BEGIN:VEVENT
UID:80bff11fa0b71ff8@ausschreibungsradar.com
DTSTAMP:20260425T173732Z
DTSTART;VALUE=DATE:20240126
DTEND;VALUE=DATE:20240126
SUMMARY:Ausschreibung — Universitätsklinikum Münster - Gebäude 3800 - Brandschutzsan
DESCRIPTION:Phase: Ausschreibung | Beschreibung: Offizielle Ausschreibung mit Bieterfrist. | Link: https://ausschreibungsradar.com/ausschreibung/a4741ac7-be2b-4933-988e-4aefc3ba684a/
URL:https://ausschreibungsradar.com/ausschreibung/a4741ac7-be2b-4933-988e-4aefc3ba684a/
END:VEVENT
BEGIN:VEVENT
UID:540afc2da529c14d@ausschreibungsradar.com
DTSTAMP:20260425T173732Z
DTSTART;VALUE=DATE:20240207
DTEND;VALUE=DATE:20240207
SUMMARY:Vergabeergebnis — Universitätsklinikum Münster - Gebäude 3800 - Brandschutzsan
DESCRIPTION:Phase: Vergabeergebnis | Beschreibung: Auftrag wurde zugeschlagen | Link: https://ausschreibungsradar.com/ausschreibung/67eb5fc6-4766-4bca-9453-6bc98658d3d8/
URL:https://ausschreibungsradar.com/ausschreibung/67eb5fc6-4766-4bca-9453-6bc98658d3d8/
END:VEVENT
BEGIN:VEVENT
UID:25d1a73e9c2c66f3@ausschreibungsradar.com
DTSTAMP:20260425T173732Z
DTSTART;VALUE=DATE:20240208
DTEND;VALUE=DATE:20240208
SUMMARY:Zuschlag — Universitätsklinikum Münster - Gebäude 3800 - Brandschutzsan
DESCRIPTION:Phase: Zuschlag | Beschreibung: Vergabeergebnis — Auftrag wurde erteilt oder Verfahren beendet. | Link: https://ausschreibungsradar.com/ausschreibung/404df37f-bf2e-4246-9742-3cc2de67f056/
URL:https://ausschreibungsradar.com/ausschreibung/404df37f-bf2e-4246-9742-3cc2de67f056/
END:VEVENT
END:VCALENDAR
