BEGIN:VCALENDAR
VERSION:2.0
PRODID:-//AusschreibungsRadar//Timeline//DE
CALSCALE:GREGORIAN
METHOD:PUBLISH
X-WR-CALNAME:Projekt Wasserversorgung Schwabach - Erdbau-/Rohbauarbeiten
X-WR-TIMEZONE:Europe/Berlin
BEGIN:VEVENT
UID:288674ca050348b0@ausschreibungsradar.com
DTSTAMP:20260424T054447Z
DTSTART;VALUE=DATE:20250424
DTEND;VALUE=DATE:20250424
SUMMARY:Angebotsfrist — Wasserversorgung Schwabach - Erdbau-/Rohbauarbeiten
DESCRIPTION:Phase: Ausschreibung | Beschreibung: Angebote werden eingeholt | Link: https://ausschreibungsradar.com/ausschreibung/6800e768-4e7c-4658-92c3-fe288af12e86/
URL:https://ausschreibungsradar.com/ausschreibung/6800e768-4e7c-4658-92c3-fe288af12e86/
END:VEVENT
BEGIN:VEVENT
UID:76694b8d06d84e45@ausschreibungsradar.com
DTSTAMP:20260424T054447Z
DTSTART;VALUE=DATE:20250708
DTEND;VALUE=DATE:20250708
SUMMARY:Vergabeergebnis — Wasserversorgung Schwabach - Erdbau-/Rohbauarbeiten
DESCRIPTION:Phase: Vergabeergebnis | Beschreibung: Auftrag wurde zugeschlagen | Link: https://ausschreibungsradar.com/ausschreibung/71e4d1eb-d7b9-4c46-8ede-ccb4e43251cb/
URL:https://ausschreibungsradar.com/ausschreibung/71e4d1eb-d7b9-4c46-8ede-ccb4e43251cb/
END:VEVENT
END:VCALENDAR
