BEGIN:VCALENDAR
VERSION:2.0
PRODID:-//AusschreibungsRadar//Timeline//DE
CALSCALE:GREGORIAN
METHOD:PUBLISH
X-WR-CALNAME:Projekt Entwicklung und Implementierung von Tarifmodulen nach dem PK
X-WR-TIMEZONE:Europe/Berlin
BEGIN:VEVENT
UID:71c2cf50118aad91@ausschreibungsradar.com
DTSTAMP:20260424T203843Z
DTSTART;VALUE=DATE:20250426
DTEND;VALUE=DATE:20250426
SUMMARY:Ausschreibung — Entwicklung und Implementierung von Tarifmodulen nach dem PK
DESCRIPTION:Phase: Ausschreibung | Beschreibung: Angebote werden eingeholt | Link: https://ausschreibungsradar.com/ausschreibung/681db5a3-beac-46d3-af26-4d13438428a9/
URL:https://ausschreibungsradar.com/ausschreibung/681db5a3-beac-46d3-af26-4d13438428a9/
END:VEVENT
BEGIN:VEVENT
UID:3dda3acb3b35d008@ausschreibungsradar.com
DTSTAMP:20260424T203843Z
DTSTART;VALUE=DATE:20251121
DTEND;VALUE=DATE:20251121
SUMMARY:Vergabeergebnis — Entwicklung und Implementierung von Tarifmodulen nach dem PK
DESCRIPTION:Phase: Vergabeergebnis | Beschreibung: Auftrag wurde zugeschlagen | Link: https://ausschreibungsradar.com/ausschreibung/f3229e8e-5de6-462a-b096-7e3ced6cc409/
URL:https://ausschreibungsradar.com/ausschreibung/f3229e8e-5de6-462a-b096-7e3ced6cc409/
END:VEVENT
END:VCALENDAR
