BEGIN:VCALENDAR
VERSION:2.0
PRODID:-//AusschreibungsRadar//Timeline//DE
CALSCALE:GREGORIAN
METHOD:PUBLISH
X-WR-CALNAME:Projekt Rahmenvereinbarung über die Vernichtung von VS-Material aus 
X-WR-TIMEZONE:Europe/Berlin
BEGIN:VEVENT
UID:f5f4f2d7fa0d60e1@ausschreibungsradar.com
DTSTAMP:20260426T024106Z
DTSTART;VALUE=DATE:20250414
DTEND;VALUE=DATE:20250414
SUMMARY:Angebotsfrist — Rahmenvereinbarung über die Vernichtung von VS-Material aus 
DESCRIPTION:Phase: Ausschreibung | Beschreibung: Angebote werden eingeholt | Link: https://ausschreibungsradar.com/ausschreibung/b62fee6c-144f-470e-99e9-76c2273d8d20/
URL:https://ausschreibungsradar.com/ausschreibung/b62fee6c-144f-470e-99e9-76c2273d8d20/
END:VEVENT
BEGIN:VEVENT
UID:369b435c322f9d43@ausschreibungsradar.com
DTSTAMP:20260426T024106Z
DTSTART;VALUE=DATE:20250723
DTEND;VALUE=DATE:20250723
SUMMARY:Vergabeergebnis — Rahmenvereinbarung über die Vernichtung von VS-Material aus 
DESCRIPTION:Phase: Vergabeergebnis | Beschreibung: Auftrag wurde zugeschlagen | Link: https://ausschreibungsradar.com/ausschreibung/685e6807-4fa8-4ff6-afe6-40f57b5937e6/
URL:https://ausschreibungsradar.com/ausschreibung/685e6807-4fa8-4ff6-afe6-40f57b5937e6/
END:VEVENT
END:VCALENDAR
