BEGIN:VCALENDAR
VERSION:2.0
PRODID:-//AusschreibungsRadar//Timeline//DE
CALSCALE:GREGORIAN
METHOD:PUBLISH
X-WR-CALNAME:Projekt 3 Productions Rooms in an Indoor Growing Project at the Univ
X-WR-TIMEZONE:Europe/Berlin
BEGIN:VEVENT
UID:bc6059ef2921cca8@ausschreibungsradar.com
DTSTAMP:20260424T151819Z
DTSTART;VALUE=DATE:20260211
DTEND;VALUE=DATE:20260211
SUMMARY:Direktvergabe-Ankündigung — 3 Productions Rooms in an Indoor Growing Project at the Univ
DESCRIPTION:Phase: Direktvergabe-Ankündigung | Beschreibung: Geplante Direktvergabe (VEAT) — 10 Tage Stillhaltefrist | Link: https://ausschreibungsradar.com/ausschreibung/68695d29-9d76-4a18-8568-4a99f0bbe048/
URL:https://ausschreibungsradar.com/ausschreibung/68695d29-9d76-4a18-8568-4a99f0bbe048/
END:VEVENT
BEGIN:VEVENT
UID:3409f63ce7fb3c9f@ausschreibungsradar.com
DTSTAMP:20260424T151819Z
DTSTART;VALUE=DATE:20260211
DTEND;VALUE=DATE:20260211
SUMMARY:Direktvergabe (VEAT) — 3 Productions Rooms in an Indoor Growing Project at the Univ
DESCRIPTION:Phase: Direktvergabe (VEAT) | Beschreibung: Ankündigung einer Direktvergabe mit 10-Tage-Stillhaltefrist. | Link: https://ausschreibungsradar.com/ausschreibung/6c3afb6a-fbf1-449f-a09c-d4414d16ee39/
URL:https://ausschreibungsradar.com/ausschreibung/6c3afb6a-fbf1-449f-a09c-d4414d16ee39/
END:VEVENT
BEGIN:VEVENT
UID:e726dacff49512d5@ausschreibungsradar.com
DTSTAMP:20260424T151819Z
DTSTART;VALUE=DATE:20260312
DTEND;VALUE=DATE:20260312
SUMMARY:Vergabeergebnis — 3 Productions Rooms in an Indoor Growing Project at the Univ
DESCRIPTION:Phase: Vergabeergebnis | Beschreibung: Auftrag wurde zugeschlagen | Link: https://ausschreibungsradar.com/ausschreibung/6a76237c-4cf4-4c96-a3d2-23048938c3fe/
URL:https://ausschreibungsradar.com/ausschreibung/6a76237c-4cf4-4c96-a3d2-23048938c3fe/
END:VEVENT
END:VCALENDAR
