BEGIN:VCALENDAR
VERSION:2.0
PRODID:-//AusschreibungsRadar//Timeline//DE
CALSCALE:GREGORIAN
METHOD:PUBLISH
X-WR-CALNAME:Projekt Fraunhofer IBMT / IZFP Saarbrücken - 70-00421-2250-704_E Tec
X-WR-TIMEZONE:Europe/Berlin
BEGIN:VEVENT
UID:1e12e4bda094e721@ausschreibungsradar.com
DTSTAMP:20260425T012909Z
DTSTART;VALUE=DATE:20250213
DTEND;VALUE=DATE:20250213
SUMMARY:Ausschreibung — Fraunhofer IBMT / IZFP Saarbrücken - 70-00421-2250-704_E Tec
DESCRIPTION:Phase: Ausschreibung | Beschreibung: Angebote werden eingeholt | Link: https://ausschreibungsradar.com/ausschreibung/b9d2dd16-bfe1-400b-9202-3e5afbdce318/ | Geschätzter Wert: 266194 €
URL:https://ausschreibungsradar.com/ausschreibung/b9d2dd16-bfe1-400b-9202-3e5afbdce318/
END:VEVENT
BEGIN:VEVENT
UID:77129ea94ca303dc@ausschreibungsradar.com
DTSTAMP:20260425T012909Z
DTSTART;VALUE=DATE:20250826
DTEND;VALUE=DATE:20250826
SUMMARY:Vergabeergebnis — Fraunhofer IBMT / IZFP Saarbrücken - 70-00421-2250-704_E Tec
DESCRIPTION:Phase: Vergabeergebnis | Beschreibung: Auftrag wurde zugeschlagen | Link: https://ausschreibungsradar.com/ausschreibung/68761b08-b3e0-4c4c-8fdc-d28d5a56fdb7/
URL:https://ausschreibungsradar.com/ausschreibung/68761b08-b3e0-4c4c-8fdc-d28d5a56fdb7/
END:VEVENT
BEGIN:VEVENT
UID:6c27abb9bb3a757e@ausschreibungsradar.com
DTSTAMP:20260425T012909Z
DTSTART;VALUE=DATE:20250826
DTEND;VALUE=DATE:20250826
SUMMARY:Zuschlag — Fraunhofer IBMT / IZFP Saarbrücken - 70-00421-2250-704_E Tec
DESCRIPTION:Phase: Zuschlag | Beschreibung: Vergabeergebnis — Auftrag wurde erteilt oder Verfahren beendet. | Link: https://ausschreibungsradar.com/ausschreibung/0f28a1e9-c60a-47ca-a175-1002a382439a/
URL:https://ausschreibungsradar.com/ausschreibung/0f28a1e9-c60a-47ca-a175-1002a382439a/
END:VEVENT
END:VCALENDAR
