BEGIN:VCALENDAR
VERSION:2.0
PRODID:-//AusschreibungsRadar//Timeline//DE
CALSCALE:GREGORIAN
METHOD:PUBLISH
X-WR-CALNAME:Projekt Rahmenvertrag Betonuntersuchung
X-WR-TIMEZONE:Europe/Berlin
BEGIN:VEVENT
UID:6ebce60da1ca0a5c@ausschreibungsradar.com
DTSTAMP:20260425T144538Z
DTSTART;VALUE=DATE:20260123
DTEND;VALUE=DATE:20260123
SUMMARY:Angebotsfrist — Rahmenvertrag Betonuntersuchung
DESCRIPTION:Phase: Ausschreibung | Beschreibung: Angebote werden eingeholt | Link: https://ausschreibungsradar.com/ausschreibung/b250e4f7-791c-493e-a607-860fd70e6611/
URL:https://ausschreibungsradar.com/ausschreibung/b250e4f7-791c-493e-a607-860fd70e6611/
END:VEVENT
BEGIN:VEVENT
UID:749d5648b0dca48c@ausschreibungsradar.com
DTSTAMP:20260425T144538Z
DTSTART;VALUE=DATE:20260304
DTEND;VALUE=DATE:20260304
SUMMARY:Vergabeergebnis — Rahmenvertrag Betonuntersuchung
DESCRIPTION:Phase: Vergabeergebnis | Beschreibung: Auftrag wurde zugeschlagen | Link: https://ausschreibungsradar.com/ausschreibung/68cce968-f2cb-427f-a610-5eb3d5ef90f7/ | Auftragnehmer: LPI Ingenieurgesellschaft
URL:https://ausschreibungsradar.com/ausschreibung/68cce968-f2cb-427f-a610-5eb3d5ef90f7/
END:VEVENT
END:VCALENDAR
