BEGIN:VCALENDAR
VERSION:2.0
PRODID:-//AusschreibungsRadar//Timeline//DE
CALSCALE:GREGORIAN
METHOD:PUBLISH
X-WR-CALNAME:Projekt TNW_TWP_Bundesverband Deutscher Bestatter e.V._Erweiterung A
X-WR-TIMEZONE:Europe/Berlin
BEGIN:VEVENT
UID:b9cf2c9413905010@ausschreibungsradar.com
DTSTAMP:20260424T225351Z
DTSTART;VALUE=DATE:20241128
DTEND;VALUE=DATE:20241128
SUMMARY:Ausschreibung — TNW_TWP_Bundesverband Deutscher Bestatter e.V._Erweiterung A
DESCRIPTION:Phase: Ausschreibung | Beschreibung: Angebote werden eingeholt | Link: https://ausschreibungsradar.com/ausschreibung/69149d5c-ddd7-46d8-8bfc-72d8e254a527/
URL:https://ausschreibungsradar.com/ausschreibung/69149d5c-ddd7-46d8-8bfc-72d8e254a527/
END:VEVENT
BEGIN:VEVENT
UID:91d78a21a2752b24@ausschreibungsradar.com
DTSTAMP:20260424T225351Z
DTSTART;VALUE=DATE:20241128
DTEND;VALUE=DATE:20241128
SUMMARY:Ausschreibung — TNW_TWP_Bundesverband Deutscher Bestatter e.V._Erweiterung A
DESCRIPTION:Phase: Ausschreibung | Beschreibung: Offizielle Ausschreibung mit Bieterfrist. | Link: https://ausschreibungsradar.com/ausschreibung/c26f56c6-db07-4190-93e0-f03aeee9c397/
URL:https://ausschreibungsradar.com/ausschreibung/c26f56c6-db07-4190-93e0-f03aeee9c397/
END:VEVENT
BEGIN:VEVENT
UID:50a736340fb19f31@ausschreibungsradar.com
DTSTAMP:20260424T225351Z
DTSTART;VALUE=DATE:20250710
DTEND;VALUE=DATE:20250710
SUMMARY:Vergabeergebnis — TNW_TWP_Bundesverband Deutscher Bestatter e.V._Erweiterung A
DESCRIPTION:Phase: Vergabeergebnis | Beschreibung: Auftrag wurde zugeschlagen | Link: https://ausschreibungsradar.com/ausschreibung/7fa6d59f-ee6f-4bcc-822a-bca5f2c9a141/
URL:https://ausschreibungsradar.com/ausschreibung/7fa6d59f-ee6f-4bcc-822a-bca5f2c9a141/
END:VEVENT
END:VCALENDAR
