BEGIN:VCALENDAR
VERSION:2.0
PRODID:-//AusschreibungsRadar//Timeline//DE
CALSCALE:GREGORIAN
METHOD:PUBLISH
X-WR-CALNAME:Projekt Sicherheits- und Wachdienstleistungen an mehreren Standorten
X-WR-TIMEZONE:Europe/Berlin
BEGIN:VEVENT
UID:f4d00328c89867b3@ausschreibungsradar.com
DTSTAMP:20260424T192303Z
DTSTART;VALUE=DATE:20250703
DTEND;VALUE=DATE:20250703
SUMMARY:Angebotsfrist — Sicherheits- und Wachdienstleistungen an mehreren Standorten
DESCRIPTION:Phase: Ausschreibung | Beschreibung: Angebote werden eingeholt | Link: https://ausschreibungsradar.com/ausschreibung/5b89769f-9993-4765-a989-142cfcc61ece/
URL:https://ausschreibungsradar.com/ausschreibung/5b89769f-9993-4765-a989-142cfcc61ece/
END:VEVENT
BEGIN:VEVENT
UID:3c302dfd18c7c2ec@ausschreibungsradar.com
DTSTAMP:20260424T192303Z
DTSTART;VALUE=DATE:20250819
DTEND;VALUE=DATE:20250819
SUMMARY:Vergabeergebnis — Sicherheits- und Wachdienstleistungen an mehreren Standorten
DESCRIPTION:Phase: Vergabeergebnis | Beschreibung: Auftrag wurde zugeschlagen | Link: https://ausschreibungsradar.com/ausschreibung/691e91d5-714e-479e-bb53-9b27a0484884/
URL:https://ausschreibungsradar.com/ausschreibung/691e91d5-714e-479e-bb53-9b27a0484884/
END:VEVENT
END:VCALENDAR
