BEGIN:VCALENDAR
VERSION:2.0
PRODID:-//AusschreibungsRadar//Timeline//DE
CALSCALE:GREGORIAN
METHOD:PUBLISH
X-WR-CALNAME:Projekt Schulprojekt Kardinal-von-Galen-Schule - Außenanlagen Schulh
X-WR-TIMEZONE:Europe/Berlin
BEGIN:VEVENT
UID:4c8f5a76d3cda104@ausschreibungsradar.com
DTSTAMP:20260425T034508Z
DTSTART;VALUE=DATE:20260730
DTEND;VALUE=DATE:20260730
SUMMARY:Angebotsfrist — Schulprojekt Kardinal-von-Galen-Schule - Außenanlagen Schulh
DESCRIPTION:Phase: Ausschreibung | Beschreibung: Angebote werden eingeholt | Link: https://ausschreibungsradar.com/ausschreibung/6933649f-dd36-41f1-bf95-050fd25a20cf/ | Geschätzter Wert: 1264382 €
URL:https://ausschreibungsradar.com/ausschreibung/6933649f-dd36-41f1-bf95-050fd25a20cf/
END:VEVENT
BEGIN:VEVENT
UID:bcf5d56f3fb454cf@ausschreibungsradar.com
DTSTAMP:20260425T034508Z
DTSTART;VALUE=DATE:20260109
DTEND;VALUE=DATE:20260109
SUMMARY:Ausschreibung — Schulprojekt Kardinal-von-Galen-Schule - Außenanlagen Schulh
DESCRIPTION:Phase: Ausschreibung | Beschreibung: Offizielle Ausschreibung mit Bieterfrist. | Link: https://ausschreibungsradar.com/ausschreibung/b19079ab-c8fc-4db9-b6ac-1d4de64c5113/
URL:https://ausschreibungsradar.com/ausschreibung/b19079ab-c8fc-4db9-b6ac-1d4de64c5113/
END:VEVENT
BEGIN:VEVENT
UID:d32b7b8426d772c6@ausschreibungsradar.com
DTSTAMP:20260425T034508Z
DTSTART;VALUE=DATE:20260109
DTEND;VALUE=DATE:20260109
SUMMARY:Ausschreibung — Schulprojekt Kardinal-von-Galen-Schule - Außenanlagen Schulh
DESCRIPTION:Phase: Ausschreibung | Beschreibung: Offizielle Ausschreibung mit Bieterfrist. | Link: https://ausschreibungsradar.com/ausschreibung/df6c71d0-b045-49f2-8f3e-1966614b4eed/
URL:https://ausschreibungsradar.com/ausschreibung/df6c71d0-b045-49f2-8f3e-1966614b4eed/
END:VEVENT
BEGIN:VEVENT
UID:797e5d7307be4401@ausschreibungsradar.com
DTSTAMP:20260425T034508Z
DTSTART;VALUE=DATE:20260109
DTEND;VALUE=DATE:20260109
SUMMARY:Ausschreibung — Schulprojekt Kardinal-von-Galen-Schule - Außenanlagen Schulh
DESCRIPTION:Phase: Ausschreibung | Beschreibung: Offizielle Ausschreibung mit Bieterfrist. | Link: https://ausschreibungsradar.com/ausschreibung/087b356a-a6ce-4f98-b4da-7e055f588d19/
URL:https://ausschreibungsradar.com/ausschreibung/087b356a-a6ce-4f98-b4da-7e055f588d19/
END:VEVENT
END:VCALENDAR
