BEGIN:VCALENDAR
VERSION:2.0
PRODID:-//AusschreibungsRadar//Timeline//DE
CALSCALE:GREGORIAN
METHOD:PUBLISH
X-WR-CALNAME:Projekt Unterhalts- und Grundreinigung Stadt Staßfurt - Rathäuser St
X-WR-TIMEZONE:Europe/Berlin
BEGIN:VEVENT
UID:d1aa30ff79b132b2@ausschreibungsradar.com
DTSTAMP:20260425T143549Z
DTSTART;VALUE=DATE:20251010
DTEND;VALUE=DATE:20251010
SUMMARY:Ausschreibung — Unterhalts- und Grundreinigung Stadt Staßfurt - Rathäuser St
DESCRIPTION:Phase: Ausschreibung | Beschreibung: Angebote werden eingeholt | Link: https://ausschreibungsradar.com/ausschreibung/694443b2-b7d1-4b6a-972e-63e1dddbcdb0/
URL:https://ausschreibungsradar.com/ausschreibung/694443b2-b7d1-4b6a-972e-63e1dddbcdb0/
END:VEVENT
BEGIN:VEVENT
UID:e0f8a545a6990cf6@ausschreibungsradar.com
DTSTAMP:20260425T143549Z
DTSTART;VALUE=DATE:20251010
DTEND;VALUE=DATE:20251010
SUMMARY:Ausschreibung — Unterhalts- und Grundreinigung Stadt Staßfurt - Rathäuser St
DESCRIPTION:Phase: Ausschreibung | Beschreibung: Offizielle Ausschreibung mit Bieterfrist. | Link: https://ausschreibungsradar.com/ausschreibung/31a26f35-757d-408f-9e69-92e45021699c/
URL:https://ausschreibungsradar.com/ausschreibung/31a26f35-757d-408f-9e69-92e45021699c/
END:VEVENT
BEGIN:VEVENT
UID:5049d675471fb113@ausschreibungsradar.com
DTSTAMP:20260425T143549Z
DTSTART;VALUE=DATE:20251010
DTEND;VALUE=DATE:20251010
SUMMARY:Ausschreibung — Unterhalts- und Grundreinigung Stadt Staßfurt - Rathäuser St
DESCRIPTION:Phase: Ausschreibung | Beschreibung: Offizielle Ausschreibung mit Bieterfrist. | Link: https://ausschreibungsradar.com/ausschreibung/82d0070a-430c-448a-90a7-15fca22045b2/
URL:https://ausschreibungsradar.com/ausschreibung/82d0070a-430c-448a-90a7-15fca22045b2/
END:VEVENT
BEGIN:VEVENT
UID:97eec16371dbf95c@ausschreibungsradar.com
DTSTAMP:20260425T143549Z
DTSTART;VALUE=DATE:20251010
DTEND;VALUE=DATE:20251010
SUMMARY:Ausschreibung — Unterhalts- und Grundreinigung Stadt Staßfurt - Rathäuser St
DESCRIPTION:Phase: Ausschreibung | Beschreibung: Offizielle Ausschreibung mit Bieterfrist. | Link: https://ausschreibungsradar.com/ausschreibung/41619802-c57b-42eb-9f31-d03bf02dad5c/
URL:https://ausschreibungsradar.com/ausschreibung/41619802-c57b-42eb-9f31-d03bf02dad5c/
END:VEVENT
BEGIN:VEVENT
UID:709a02b660c678c3@ausschreibungsradar.com
DTSTAMP:20260425T143549Z
DTSTART;VALUE=DATE:20251010
DTEND;VALUE=DATE:20251010
SUMMARY:Ausschreibung — Unterhalts- und Grundreinigung Stadt Staßfurt - Rathäuser St
DESCRIPTION:Phase: Ausschreibung | Beschreibung: Offizielle Ausschreibung mit Bieterfrist. | Link: https://ausschreibungsradar.com/ausschreibung/86709d4e-25c7-42f4-bf49-abe3bcb4b84c/
URL:https://ausschreibungsradar.com/ausschreibung/86709d4e-25c7-42f4-bf49-abe3bcb4b84c/
END:VEVENT
BEGIN:VEVENT
UID:ad76f38e2a01aab5@ausschreibungsradar.com
DTSTAMP:20260425T143549Z
DTSTART;VALUE=DATE:20251128
DTEND;VALUE=DATE:20251128
SUMMARY:Vergabeergebnis — Unterhalts- und Grundreinigung Stadt Staßfurt - Rathäuser St
DESCRIPTION:Phase: Vergabeergebnis | Beschreibung: Bedarf hat sich geändert | Link: https://ausschreibungsradar.com/ausschreibung/58909171-d23b-49a2-b0e2-0c02963e7734/
URL:https://ausschreibungsradar.com/ausschreibung/58909171-d23b-49a2-b0e2-0c02963e7734/
END:VEVENT
END:VCALENDAR
