BEGIN:VCALENDAR
VERSION:2.0
PRODID:-//AusschreibungsRadar//Timeline//DE
CALSCALE:GREGORIAN
METHOD:PUBLISH
X-WR-CALNAME:Projekt Gemeinde Tappenbeck: Neubau eines Sport- und Gemeinschaftspa
X-WR-TIMEZONE:Europe/Berlin
BEGIN:VEVENT
UID:4ade3843616dc394@ausschreibungsradar.com
DTSTAMP:20260425T134751Z
DTSTART;VALUE=DATE:20250703
DTEND;VALUE=DATE:20250703
SUMMARY:Ausschreibung — Gemeinde Tappenbeck: Neubau eines Sport- und Gemeinschaftspa
DESCRIPTION:Phase: Ausschreibung | Beschreibung: Offizielle Ausschreibung mit Bieterfrist. | Link: https://ausschreibungsradar.com/ausschreibung/f370590f-1d78-463b-8569-298468c742fc/
URL:https://ausschreibungsradar.com/ausschreibung/f370590f-1d78-463b-8569-298468c742fc/
END:VEVENT
BEGIN:VEVENT
UID:83c419552764f191@ausschreibungsradar.com
DTSTAMP:20260425T134751Z
DTSTART;VALUE=DATE:20250813
DTEND;VALUE=DATE:20250813
SUMMARY:Angebotsfrist — Gemeinde Tappenbeck: Neubau eines Sport- und Gemeinschaftspa
DESCRIPTION:Phase: Ausschreibung | Beschreibung: Angebote werden eingeholt | Link: https://ausschreibungsradar.com/ausschreibung/6a88e505-ebe0-4f87-be63-ef76bb20453c/
URL:https://ausschreibungsradar.com/ausschreibung/6a88e505-ebe0-4f87-be63-ef76bb20453c/
END:VEVENT
BEGIN:VEVENT
UID:590b5e676d7b8a2d@ausschreibungsradar.com
DTSTAMP:20260425T134751Z
DTSTART;VALUE=DATE:20250923
DTEND;VALUE=DATE:20250923
SUMMARY:Vergabeergebnis — Gemeinde Tappenbeck: Neubau eines Sport- und Gemeinschaftspa
DESCRIPTION:Phase: Vergabeergebnis | Beschreibung: Auftrag wurde zugeschlagen | Link: https://ausschreibungsradar.com/ausschreibung/b7a5fa23-4fa3-4d59-aca3-524ef7105240/
URL:https://ausschreibungsradar.com/ausschreibung/b7a5fa23-4fa3-4d59-aca3-524ef7105240/
END:VEVENT
END:VCALENDAR
