BEGIN:VCALENDAR
VERSION:2.0
PRODID:-//AusschreibungsRadar//Timeline//DE
CALSCALE:GREGORIAN
METHOD:PUBLISH
X-WR-CALNAME:Projekt Rahmenvertrag zur Lieferung von Diesel-Omnibussen
X-WR-TIMEZONE:Europe/Berlin
BEGIN:VEVENT
UID:af9bc564e636572a@ausschreibungsradar.com
DTSTAMP:20260425T134848Z
DTSTART;VALUE=DATE:20250306
DTEND;VALUE=DATE:20250306
SUMMARY:Ausschreibung — Rahmenvertrag zur Lieferung von Diesel-Omnibussen
DESCRIPTION:Phase: Ausschreibung | Beschreibung: Angebote werden eingeholt | Link: https://ausschreibungsradar.com/ausschreibung/6b1ac030-43b1-4307-9f42-efd884dbee5c/
URL:https://ausschreibungsradar.com/ausschreibung/6b1ac030-43b1-4307-9f42-efd884dbee5c/
END:VEVENT
BEGIN:VEVENT
UID:af9ee83038e3b6bf@ausschreibungsradar.com
DTSTAMP:20260425T134848Z
DTSTART;VALUE=DATE:20250801
DTEND;VALUE=DATE:20250801
SUMMARY:Vergabeergebnis — Rahmenvertrag zur Lieferung von Diesel-Omnibussen
DESCRIPTION:Phase: Vergabeergebnis | Beschreibung: Auftrag wurde zugeschlagen | Link: https://ausschreibungsradar.com/ausschreibung/27d49d6a-2b41-4b5b-9a1c-df14423ed1a6/
URL:https://ausschreibungsradar.com/ausschreibung/27d49d6a-2b41-4b5b-9a1c-df14423ed1a6/
END:VEVENT
END:VCALENDAR
