BEGIN:VCALENDAR
VERSION:2.0
PRODID:-//AusschreibungsRadar//Timeline//DE
CALSCALE:GREGORIAN
METHOD:PUBLISH
X-WR-CALNAME:Projekt Stadt Oberhausen Vergabe Rettungsdienstleistungen 2024
X-WR-TIMEZONE:Europe/Berlin
BEGIN:VEVENT
UID:a25ae5625d2613a7@ausschreibungsradar.com
DTSTAMP:20260424T041833Z
DTSTART;VALUE=DATE:20241010
DTEND;VALUE=DATE:20241010
SUMMARY:Angebotsfrist — Stadt Oberhausen Vergabe Rettungsdienstleistungen 2024
DESCRIPTION:Phase: Ausschreibung | Beschreibung: Angebote werden eingeholt | Link: https://ausschreibungsradar.com/ausschreibung/9bb240f7-4953-4579-9d0b-13d75de2d8a9/
URL:https://ausschreibungsradar.com/ausschreibung/9bb240f7-4953-4579-9d0b-13d75de2d8a9/
END:VEVENT
BEGIN:VEVENT
UID:1b04bc39d37449e5@ausschreibungsradar.com
DTSTAMP:20260424T041833Z
DTSTART;VALUE=DATE:20241211
DTEND;VALUE=DATE:20241211
SUMMARY:Vergabeergebnis — Stadt Oberhausen Vergabe Rettungsdienstleistungen 2024
DESCRIPTION:Phase: Vergabeergebnis | Beschreibung: Auftrag wurde zugeschlagen | Link: https://ausschreibungsradar.com/ausschreibung/6b282092-14c4-4f45-8fca-a4ab9b97a472/
URL:https://ausschreibungsradar.com/ausschreibung/6b282092-14c4-4f45-8fca-a4ab9b97a472/
END:VEVENT
END:VCALENDAR
