BEGIN:VCALENDAR
VERSION:2.0
PRODID:-//AusschreibungsRadar//Timeline//DE
CALSCALE:GREGORIAN
METHOD:PUBLISH
X-WR-CALNAME:Projekt Neubau eines Feuerwehrgerätehauses in Trechtingshausen, Los 
X-WR-TIMEZONE:Europe/Berlin
BEGIN:VEVENT
UID:9a954ca93f69abfc@ausschreibungsradar.com
DTSTAMP:20260425T012820Z
DTSTART;VALUE=DATE:20250904
DTEND;VALUE=DATE:20250904
SUMMARY:Ausschreibung — Neubau eines Feuerwehrgerätehauses in Trechtingshausen\, Los 
DESCRIPTION:Phase: Ausschreibung | Beschreibung: Angebote werden eingeholt | Link: https://ausschreibungsradar.com/ausschreibung/6b29de9d-78ce-45ee-b252-9d3db9d1623e/
URL:https://ausschreibungsradar.com/ausschreibung/6b29de9d-78ce-45ee-b252-9d3db9d1623e/
END:VEVENT
BEGIN:VEVENT
UID:3b2daadcc0711d6f@ausschreibungsradar.com
DTSTAMP:20260425T012820Z
DTSTART;VALUE=DATE:20250904
DTEND;VALUE=DATE:20250904
SUMMARY:Ausschreibung — Neubau eines Feuerwehrgerätehauses in Trechtingshausen\, Los 
DESCRIPTION:Phase: Ausschreibung | Beschreibung: Offizielle Ausschreibung mit Bieterfrist. | Link: https://ausschreibungsradar.com/ausschreibung/d2d1a72a-53ed-41f9-90a3-7778e1843364/
URL:https://ausschreibungsradar.com/ausschreibung/d2d1a72a-53ed-41f9-90a3-7778e1843364/
END:VEVENT
BEGIN:VEVENT
UID:1484b4e5d4a8e68b@ausschreibungsradar.com
DTSTAMP:20260425T012820Z
DTSTART;VALUE=DATE:20250904
DTEND;VALUE=DATE:20250904
SUMMARY:Ausschreibung — Neubau eines Feuerwehrgerätehauses in Trechtingshausen\, Los 
DESCRIPTION:Phase: Ausschreibung | Beschreibung: Offizielle Ausschreibung mit Bieterfrist. | Link: https://ausschreibungsradar.com/ausschreibung/ca5664ce-19b1-459d-8751-063eaf5f71fc/
URL:https://ausschreibungsradar.com/ausschreibung/ca5664ce-19b1-459d-8751-063eaf5f71fc/
END:VEVENT
END:VCALENDAR
