BEGIN:VCALENDAR
VERSION:2.0
PRODID:-//AusschreibungsRadar//Timeline//DE
CALSCALE:GREGORIAN
METHOD:PUBLISH
X-WR-CALNAME:Projekt Stadtwerke Barsinghausen: Neubau des Wasserwerks Eckerde - V
X-WR-TIMEZONE:Europe/Berlin
BEGIN:VEVENT
UID:3e57e7bdc20f89d4@ausschreibungsradar.com
DTSTAMP:20260424T091315Z
DTSTART;VALUE=DATE:20240508
DTEND;VALUE=DATE:20240508
SUMMARY:Angebotsfrist — Stadtwerke Barsinghausen: Neubau des Wasserwerks Eckerde - V
DESCRIPTION:Phase: Ausschreibung | Beschreibung: Angebote werden eingeholt | Link: https://ausschreibungsradar.com/ausschreibung/6b5b6db9-7567-442d-b090-d09ff0c67b5e/
URL:https://ausschreibungsradar.com/ausschreibung/6b5b6db9-7567-442d-b090-d09ff0c67b5e/
END:VEVENT
BEGIN:VEVENT
UID:718b7d2a41532b9e@ausschreibungsradar.com
DTSTAMP:20260424T091315Z
DTSTART;VALUE=DATE:20240313
DTEND;VALUE=DATE:20240313
SUMMARY:Ausschreibung — Stadtwerke Barsinghausen: Neubau des Wasserwerks Eckerde - V
DESCRIPTION:Phase: Ausschreibung | Beschreibung: Offizielle Ausschreibung mit Bieterfrist. | Link: https://ausschreibungsradar.com/ausschreibung/af70cc15-7451-471f-ba7a-f8148279c69c/
URL:https://ausschreibungsradar.com/ausschreibung/af70cc15-7451-471f-ba7a-f8148279c69c/
END:VEVENT
BEGIN:VEVENT
UID:f5c207a2cb755d24@ausschreibungsradar.com
DTSTAMP:20260424T091315Z
DTSTART;VALUE=DATE:20240313
DTEND;VALUE=DATE:20240313
SUMMARY:Ausschreibung — Stadtwerke Barsinghausen: Neubau des Wasserwerks Eckerde - V
DESCRIPTION:Phase: Ausschreibung | Beschreibung: Offizielle Ausschreibung mit Bieterfrist. | Link: https://ausschreibungsradar.com/ausschreibung/3c3c72a8-34b8-4522-9c82-4a73ef66fa6c/
URL:https://ausschreibungsradar.com/ausschreibung/3c3c72a8-34b8-4522-9c82-4a73ef66fa6c/
END:VEVENT
BEGIN:VEVENT
UID:0cc1e38abf87be5a@ausschreibungsradar.com
DTSTAMP:20260424T091315Z
DTSTART;VALUE=DATE:20240705
DTEND;VALUE=DATE:20240705
SUMMARY:Vergabeergebnis — Stadtwerke Barsinghausen: Neubau des Wasserwerks Eckerde - V
DESCRIPTION:Phase: Vergabeergebnis | Beschreibung: Auftrag wurde zugeschlagen | Link: https://ausschreibungsradar.com/ausschreibung/bc6dec7f-c194-4321-859f-77cc87021343/
URL:https://ausschreibungsradar.com/ausschreibung/bc6dec7f-c194-4321-859f-77cc87021343/
END:VEVENT
END:VCALENDAR
