BEGIN:VCALENDAR
VERSION:2.0
PRODID:-//AusschreibungsRadar//Timeline//DE
CALSCALE:GREGORIAN
METHOD:PUBLISH
X-WR-CALNAME:Projekt Sanierung / Neubau Gesamtschule Emsland in Lingen, Neubau Fa
X-WR-TIMEZONE:Europe/Berlin
BEGIN:VEVENT
UID:2ee1d4ef8f3b585f@ausschreibungsradar.com
DTSTAMP:20260425T102500Z
DTSTART;VALUE=DATE:20260126
DTEND;VALUE=DATE:20260126
SUMMARY:Ausschreibung — Sanierung / Neubau Gesamtschule Emsland in Lingen\, Neubau Fa
DESCRIPTION:Phase: Ausschreibung | Beschreibung: Angebote werden eingeholt | Link: https://ausschreibungsradar.com/ausschreibung/bc3ae4ae-f122-4cbc-be7a-9798641d6a3f/
URL:https://ausschreibungsradar.com/ausschreibung/bc3ae4ae-f122-4cbc-be7a-9798641d6a3f/
END:VEVENT
BEGIN:VEVENT
UID:0ef602d3373e350a@ausschreibungsradar.com
DTSTAMP:20260425T102500Z
DTSTART;VALUE=DATE:20260420
DTEND;VALUE=DATE:20260420
SUMMARY:Vergabeergebnis — Sanierung / Neubau Gesamtschule Emsland in Lingen\, Neubau Fa
DESCRIPTION:Phase: Vergabeergebnis | Beschreibung: Auftrag wurde zugeschlagen | Link: https://ausschreibungsradar.com/ausschreibung/6b9911dc-2bd5-48f7-a951-a07f1bb63135/
URL:https://ausschreibungsradar.com/ausschreibung/6b9911dc-2bd5-48f7-a951-a07f1bb63135/
END:VEVENT
BEGIN:VEVENT
UID:b4db709711d9a369@ausschreibungsradar.com
DTSTAMP:20260425T102500Z
DTSTART;VALUE=DATE:20260420
DTEND;VALUE=DATE:20260420
SUMMARY:Zuschlag — Sanierung / Neubau Gesamtschule Emsland in Lingen\, Neubau Fa
DESCRIPTION:Phase: Zuschlag | Beschreibung: Vergabeergebnis — Auftrag wurde erteilt oder Verfahren beendet. | Link: https://ausschreibungsradar.com/ausschreibung/5b126a22-e6ac-457d-940d-251d6b6899d8/
URL:https://ausschreibungsradar.com/ausschreibung/5b126a22-e6ac-457d-940d-251d6b6899d8/
END:VEVENT
END:VCALENDAR
