BEGIN:VCALENDAR
VERSION:2.0
PRODID:-//AusschreibungsRadar//Timeline//DE
CALSCALE:GREGORIAN
METHOD:PUBLISH
X-WR-CALNAME:Projekt TNW_ANregiomed_Erneuerung Energiezentrale
X-WR-TIMEZONE:Europe/Berlin
BEGIN:VEVENT
UID:fa0753e4760f994a@ausschreibungsradar.com
DTSTAMP:20260424T071133Z
DTSTART;VALUE=DATE:20251112
DTEND;VALUE=DATE:20251112
SUMMARY:Ausschreibung — TNW_ANregiomed_Erneuerung Energiezentrale
DESCRIPTION:Phase: Ausschreibung | Beschreibung: Angebote werden eingeholt | Link: https://ausschreibungsradar.com/ausschreibung/6bc93dfa-d9aa-4829-90dc-bcd94827a00f/
URL:https://ausschreibungsradar.com/ausschreibung/6bc93dfa-d9aa-4829-90dc-bcd94827a00f/
END:VEVENT
BEGIN:VEVENT
UID:1d33da3567232797@ausschreibungsradar.com
DTSTAMP:20260424T071133Z
DTSTART;VALUE=DATE:20251112
DTEND;VALUE=DATE:20251112
SUMMARY:Ausschreibung — TNW_ANregiomed_Erneuerung Energiezentrale
DESCRIPTION:Phase: Ausschreibung | Beschreibung: Offizielle Ausschreibung mit Bieterfrist. | Link: https://ausschreibungsradar.com/ausschreibung/ba21aed2-4a92-482c-817b-f559d89580f9/
URL:https://ausschreibungsradar.com/ausschreibung/ba21aed2-4a92-482c-817b-f559d89580f9/
END:VEVENT
BEGIN:VEVENT
UID:7735f4d4c4463074@ausschreibungsradar.com
DTSTAMP:20260424T071133Z
DTSTART;VALUE=DATE:20260331
DTEND;VALUE=DATE:20260331
SUMMARY:Vergabeergebnis — TNW_ANregiomed_Erneuerung Energiezentrale
DESCRIPTION:Phase: Vergabeergebnis | Beschreibung: Auftrag wurde zugeschlagen | Link: https://ausschreibungsradar.com/ausschreibung/52eac0d4-6be9-492a-8c2d-9e19ebd30ce2/
URL:https://ausschreibungsradar.com/ausschreibung/52eac0d4-6be9-492a-8c2d-9e19ebd30ce2/
END:VEVENT
END:VCALENDAR
