BEGIN:VCALENDAR
VERSION:2.0
PRODID:-//AusschreibungsRadar//Timeline//DE
CALSCALE:GREGORIAN
METHOD:PUBLISH
X-WR-CALNAME:Projekt 81318197-On demand experts to support cities in the early-st
X-WR-TIMEZONE:Europe/Berlin
BEGIN:VEVENT
UID:8d3d64b2e22f2302@ausschreibungsradar.com
DTSTAMP:20260426T000718Z
DTSTART;VALUE=DATE:20250912
DTEND;VALUE=DATE:20250912
SUMMARY:Angebotsfrist — 81318197-On demand experts to support cities in the early-st
DESCRIPTION:Phase: Ausschreibung | Beschreibung: Angebote werden eingeholt | Link: https://ausschreibungsradar.com/ausschreibung/6be9391d-2536-4d6a-a1cf-2c527ceef31c/
URL:https://ausschreibungsradar.com/ausschreibung/6be9391d-2536-4d6a-a1cf-2c527ceef31c/
END:VEVENT
BEGIN:VEVENT
UID:b02ebea246c47219@ausschreibungsradar.com
DTSTAMP:20260426T000718Z
DTSTART;VALUE=DATE:20250716
DTEND;VALUE=DATE:20250716
SUMMARY:Ausschreibung — 81318197-On demand experts to support cities in the early-st
DESCRIPTION:Phase: Ausschreibung | Beschreibung: Offizielle Ausschreibung mit Bieterfrist. | Link: https://ausschreibungsradar.com/ausschreibung/cb30a058-b8e6-4af6-bf58-4d129d44715b/
URL:https://ausschreibungsradar.com/ausschreibung/cb30a058-b8e6-4af6-bf58-4d129d44715b/
END:VEVENT
BEGIN:VEVENT
UID:93d8c233c0dcd6e2@ausschreibungsradar.com
DTSTAMP:20260426T000718Z
DTSTART;VALUE=DATE:20250716
DTEND;VALUE=DATE:20250716
SUMMARY:Ausschreibung — 81318197-On demand experts to support cities in the early-st
DESCRIPTION:Phase: Ausschreibung | Beschreibung: Offizielle Ausschreibung mit Bieterfrist. | Link: https://ausschreibungsradar.com/ausschreibung/b10af0ad-b8d6-4c7c-bd8f-4368bc8472a0/
URL:https://ausschreibungsradar.com/ausschreibung/b10af0ad-b8d6-4c7c-bd8f-4368bc8472a0/
END:VEVENT
END:VCALENDAR
