BEGIN:VCALENDAR
VERSION:2.0
PRODID:-//AusschreibungsRadar//Timeline//DE
CALSCALE:GREGORIAN
METHOD:PUBLISH
X-WR-CALNAME:Projekt 510_2023_LK_RT_THS_2
X-WR-TIMEZONE:Europe/Berlin
BEGIN:VEVENT
UID:49e6f32343aaab9d@ausschreibungsradar.com
DTSTAMP:20260425T034652Z
DTSTART;VALUE=DATE:20231219
DTEND;VALUE=DATE:20231219
SUMMARY:Zuschlag — 510_2023_LK_RT_THS_2
DESCRIPTION:Phase: Zuschlag | Beschreibung: Vergabeergebnis — Auftrag wurde erteilt oder Verfahren beendet. | Link: https://ausschreibungsradar.com/ausschreibung/6c0d4095-7e44-4b34-a712-c212f0c776e9/ | Geschätzte
URL:https://ausschreibungsradar.com/ausschreibung/6c0d4095-7e44-4b34-a712-c212f0c776e9/
END:VEVENT
BEGIN:VEVENT
UID:b588fd0a9a7fd9b1@ausschreibungsradar.com
DTSTAMP:20260425T034652Z
DTSTART;VALUE=DATE:20231220
DTEND;VALUE=DATE:20231220
SUMMARY:Zuschlag — 510_2023_LK_RT_THS_2
DESCRIPTION:Phase: Zuschlag | Beschreibung: Vergabeergebnis — Auftrag wurde erteilt oder Verfahren beendet. | Link: https://ausschreibungsradar.com/ausschreibung/ted-773761-2023/
URL:https://ausschreibungsradar.com/ausschreibung/ted-773761-2023/
END:VEVENT
END:VCALENDAR
