BEGIN:VCALENDAR
VERSION:2.0
PRODID:-//AusschreibungsRadar//Timeline//DE
CALSCALE:GREGORIAN
METHOD:PUBLISH
X-WR-CALNAME:Projekt Lieferung und Support Clientgeräte
X-WR-TIMEZONE:Europe/Berlin
BEGIN:VEVENT
UID:620174a8f8fe2672@ausschreibungsradar.com
DTSTAMP:20260424T211213Z
DTSTART;VALUE=DATE:20230612
DTEND;VALUE=DATE:20230612
SUMMARY:Angebotsfrist — Lieferung und Support Clientgeräte
DESCRIPTION:Phase: Ausschreibung | Beschreibung: Angebote werden eingeholt | Link: https://ausschreibungsradar.com/ausschreibung/6c45fb17-6600-4dd5-a704-4fc629a2e85b/ | Geschätzter Wert: 13200000 €
URL:https://ausschreibungsradar.com/ausschreibung/6c45fb17-6600-4dd5-a704-4fc629a2e85b/
END:VEVENT
BEGIN:VEVENT
UID:051a647ec4caeffe@ausschreibungsradar.com
DTSTAMP:20260424T211213Z
DTSTART;VALUE=DATE:20230711
DTEND;VALUE=DATE:20230711
SUMMARY:Vergabeergebnis — Lieferung und Support Clientgeräte
DESCRIPTION:Phase: Vergabeergebnis | Beschreibung: Auftrag wurde zugeschlagen | Link: https://ausschreibungsradar.com/ausschreibung/b64eec90-6eee-4b62-8150-f1ad234c4f02/ | Auftragnehmer: Bechtle GmbH & Co. KG
URL:https://ausschreibungsradar.com/ausschreibung/b64eec90-6eee-4b62-8150-f1ad234c4f02/
END:VEVENT
END:VCALENDAR
