BEGIN:VCALENDAR
VERSION:2.0
PRODID:-//AusschreibungsRadar//Timeline//DE
CALSCALE:GREGORIAN
METHOD:PUBLISH
X-WR-CALNAME:Projekt U6 Verlängerung nach Martinsried - VE4410 Elektroarbeiten 50
X-WR-TIMEZONE:Europe/Berlin
BEGIN:VEVENT
UID:babbe43f91867fe3@ausschreibungsradar.com
DTSTAMP:20260424T155500Z
DTSTART;VALUE=DATE:20240710
DTEND;VALUE=DATE:20240710
SUMMARY:Angebotsfrist — U6 Verlängerung nach Martinsried - VE4410 Elektroarbeiten 50
DESCRIPTION:Phase: Ausschreibung | Beschreibung: Angebote werden eingeholt | Link: https://ausschreibungsradar.com/ausschreibung/6c570da6-a49c-46de-9e0e-cc63b4b3d1d4/
URL:https://ausschreibungsradar.com/ausschreibung/6c570da6-a49c-46de-9e0e-cc63b4b3d1d4/
END:VEVENT
BEGIN:VEVENT
UID:ebe504e8d562d516@ausschreibungsradar.com
DTSTAMP:20260424T155500Z
DTSTART;VALUE=DATE:20240522
DTEND;VALUE=DATE:20240522
SUMMARY:Ausschreibung — U6 Verlängerung nach Martinsried - VE4410 Elektroarbeiten 50
DESCRIPTION:Phase: Ausschreibung | Beschreibung: Offizielle Ausschreibung mit Bieterfrist. | Link: https://ausschreibungsradar.com/ausschreibung/e752f3fe-c002-4b0e-bade-84693bbe8242/
URL:https://ausschreibungsradar.com/ausschreibung/e752f3fe-c002-4b0e-bade-84693bbe8242/
END:VEVENT
BEGIN:VEVENT
UID:9999f19eda16a77e@ausschreibungsradar.com
DTSTAMP:20260424T155500Z
DTSTART;VALUE=DATE:20240603
DTEND;VALUE=DATE:20240603
SUMMARY:Ausschreibung — U6 Verlängerung nach Martinsried - VE4410 Elektroarbeiten 50
DESCRIPTION:Phase: Ausschreibung | Beschreibung: Offizielle Ausschreibung mit Bieterfrist. | Link: https://ausschreibungsradar.com/ausschreibung/6882c485-dea7-4f1a-b251-525fb520cd0b/
URL:https://ausschreibungsradar.com/ausschreibung/6882c485-dea7-4f1a-b251-525fb520cd0b/
END:VEVENT
BEGIN:VEVENT
UID:d922d4ab95c4b888@ausschreibungsradar.com
DTSTAMP:20260424T155500Z
DTSTART;VALUE=DATE:20240603
DTEND;VALUE=DATE:20240603
SUMMARY:Ausschreibung — U6 Verlängerung nach Martinsried - VE4410 Elektroarbeiten 50
DESCRIPTION:Phase: Ausschreibung | Beschreibung: Offizielle Ausschreibung mit Bieterfrist. | Link: https://ausschreibungsradar.com/ausschreibung/bb55c79b-ac7f-431e-9c39-f429772106d7/
URL:https://ausschreibungsradar.com/ausschreibung/bb55c79b-ac7f-431e-9c39-f429772106d7/
END:VEVENT
BEGIN:VEVENT
UID:370138a4941b55d4@ausschreibungsradar.com
DTSTAMP:20260424T155500Z
DTSTART;VALUE=DATE:20240603
DTEND;VALUE=DATE:20240603
SUMMARY:Ausschreibung — U6 Verlängerung nach Martinsried - VE4410 Elektroarbeiten 50
DESCRIPTION:Phase: Ausschreibung | Beschreibung: Offizielle Ausschreibung mit Bieterfrist. | Link: https://ausschreibungsradar.com/ausschreibung/6ae74a87-3791-41af-99ca-8e80c2353240/
URL:https://ausschreibungsradar.com/ausschreibung/6ae74a87-3791-41af-99ca-8e80c2353240/
END:VEVENT
BEGIN:VEVENT
UID:677bb4c9b5f0d8bf@ausschreibungsradar.com
DTSTAMP:20260424T155500Z
DTSTART;VALUE=DATE:20240603
DTEND;VALUE=DATE:20240603
SUMMARY:Ausschreibung — U6 Verlängerung nach Martinsried - VE4410 Elektroarbeiten 50
DESCRIPTION:Phase: Ausschreibung | Beschreibung: Offizielle Ausschreibung mit Bieterfrist. | Link: https://ausschreibungsradar.com/ausschreibung/4dfe47fb-1f3a-43dc-beef-2f15c5decfd8/
URL:https://ausschreibungsradar.com/ausschreibung/4dfe47fb-1f3a-43dc-beef-2f15c5decfd8/
END:VEVENT
END:VCALENDAR
