BEGIN:VCALENDAR
VERSION:2.0
PRODID:-//AusschreibungsRadar//Timeline//DE
CALSCALE:GREGORIAN
METHOD:PUBLISH
X-WR-CALNAME:Projekt Stadtverkehr Emden GmbH: Vergabe von Bus- und Bedarfsverkehr
X-WR-TIMEZONE:Europe/Berlin
BEGIN:VEVENT
UID:3985cfd3916178c7@ausschreibungsradar.com
DTSTAMP:20260425T131421Z
DTSTART;VALUE=DATE:20240313
DTEND;VALUE=DATE:20240313
SUMMARY:Ausschreibung — Stadtverkehr Emden GmbH: Vergabe von Bus- und Bedarfsverkehr
DESCRIPTION:Phase: Ausschreibung | Beschreibung: Angebote werden eingeholt | Link: https://ausschreibungsradar.com/ausschreibung/1bf04af0-9bd4-4354-9d71-496775664862/
URL:https://ausschreibungsradar.com/ausschreibung/1bf04af0-9bd4-4354-9d71-496775664862/
END:VEVENT
BEGIN:VEVENT
UID:0c9ed7c1ebb493d0@ausschreibungsradar.com
DTSTAMP:20260425T131421Z
DTSTART;VALUE=DATE:20240313
DTEND;VALUE=DATE:20240313
SUMMARY:Ausschreibung — Stadtverkehr Emden GmbH: Vergabe von Bus- und Bedarfsverkehr
DESCRIPTION:Phase: Ausschreibung | Beschreibung: Offizielle Ausschreibung mit Bieterfrist. | Link: https://ausschreibungsradar.com/ausschreibung/d9a3055a-4459-4eeb-93c8-227a020545cd/
URL:https://ausschreibungsradar.com/ausschreibung/d9a3055a-4459-4eeb-93c8-227a020545cd/
END:VEVENT
BEGIN:VEVENT
UID:ed4223bc924a66e7@ausschreibungsradar.com
DTSTAMP:20260425T131421Z
DTSTART;VALUE=DATE:20241023
DTEND;VALUE=DATE:20241023
SUMMARY:Vergabeergebnis — Stadtverkehr Emden GmbH: Vergabe von Bus- und Bedarfsverkehr
DESCRIPTION:Phase: Vergabeergebnis | Beschreibung: Auftrag wurde zugeschlagen | Link: https://ausschreibungsradar.com/ausschreibung/6c5eba62-1128-4dde-a073-d300978fd2a0/
URL:https://ausschreibungsradar.com/ausschreibung/6c5eba62-1128-4dde-a073-d300978fd2a0/
END:VEVENT
END:VCALENDAR
