BEGIN:VCALENDAR
VERSION:2.0
PRODID:-//AusschreibungsRadar//Timeline//DE
CALSCALE:GREGORIAN
METHOD:PUBLISH
X-WR-CALNAME:Projekt Neubau der Kita in Traben-Trarbach
X-WR-TIMEZONE:Europe/Berlin
BEGIN:VEVENT
UID:3d70fe8c2b5a1cbe@ausschreibungsradar.com
DTSTAMP:20260424T163652Z
DTSTART;VALUE=DATE:20251120
DTEND;VALUE=DATE:20251120
SUMMARY:Angebotsfrist — Neubau der Kita in Traben-Trarbach
DESCRIPTION:Phase: Ausschreibung | Beschreibung: Angebote werden eingeholt | Link: https://ausschreibungsradar.com/ausschreibung/d24ac669-aeee-4dbb-914b-258abfcd2dc7/ | Geschätzter Wert: 310705 €
URL:https://ausschreibungsradar.com/ausschreibung/d24ac669-aeee-4dbb-914b-258abfcd2dc7/
END:VEVENT
BEGIN:VEVENT
UID:da34e2b325ae2d10@ausschreibungsradar.com
DTSTAMP:20260424T163652Z
DTSTART;VALUE=DATE:20260107
DTEND;VALUE=DATE:20260107
SUMMARY:Vergabeergebnis — Neubau der Kita in Traben-Trarbach
DESCRIPTION:Phase: Vergabeergebnis | Beschreibung: Auftrag wurde zugeschlagen | Link: https://ausschreibungsradar.com/ausschreibung/6cb5fc8b-1482-418b-a4d9-c2fd35b7f577/ | Auftragnehmer: Hand in Hand Industriemon
URL:https://ausschreibungsradar.com/ausschreibung/6cb5fc8b-1482-418b-a4d9-c2fd35b7f577/
END:VEVENT
BEGIN:VEVENT
UID:59b656517e7f09de@ausschreibungsradar.com
DTSTAMP:20260424T163652Z
DTSTART;VALUE=DATE:20260107
DTEND;VALUE=DATE:20260107
SUMMARY:Zuschlag — Neubau der Kita in Traben-Trarbach
DESCRIPTION:Phase: Zuschlag | Beschreibung: Vergabeergebnis — Auftrag wurde erteilt oder Verfahren beendet. | Link: https://ausschreibungsradar.com/ausschreibung/4e21887e-ab90-4970-a084-8a00cc1adbe2/
URL:https://ausschreibungsradar.com/ausschreibung/4e21887e-ab90-4970-a084-8a00cc1adbe2/
END:VEVENT
BEGIN:VEVENT
UID:d8ac70239e58ee3e@ausschreibungsradar.com
DTSTAMP:20260424T163652Z
DTSTART;VALUE=DATE:20260107
DTEND;VALUE=DATE:20260107
SUMMARY:Zuschlag — Neubau der Kita in Traben-Trarbach
DESCRIPTION:Phase: Zuschlag | Beschreibung: Vergabeergebnis — Auftrag wurde erteilt oder Verfahren beendet. | Link: https://ausschreibungsradar.com/ausschreibung/1d12f964-0358-47bb-8fd7-ed52dc3b9da2/
URL:https://ausschreibungsradar.com/ausschreibung/1d12f964-0358-47bb-8fd7-ed52dc3b9da2/
END:VEVENT
BEGIN:VEVENT
UID:798495d8ebfda4e3@ausschreibungsradar.com
DTSTAMP:20260424T163652Z
DTSTART;VALUE=DATE:20260114
DTEND;VALUE=DATE:20260114
SUMMARY:Zuschlag — Neubau der Kita in Traben-Trarbach
DESCRIPTION:Phase: Zuschlag | Beschreibung: Vergabeergebnis — Auftrag wurde erteilt oder Verfahren beendet. | Link: https://ausschreibungsradar.com/ausschreibung/75bf1fa3-e19f-4c78-a4a5-d0b88280ced7/
URL:https://ausschreibungsradar.com/ausschreibung/75bf1fa3-e19f-4c78-a4a5-d0b88280ced7/
END:VEVENT
BEGIN:VEVENT
UID:3ce97cb837c79ac5@ausschreibungsradar.com
DTSTAMP:20260424T163652Z
DTSTART;VALUE=DATE:20260114
DTEND;VALUE=DATE:20260114
SUMMARY:Zuschlag — Neubau der Kita in Traben-Trarbach
DESCRIPTION:Phase: Zuschlag | Beschreibung: Vergabeergebnis — Auftrag wurde erteilt oder Verfahren beendet. | Link: https://ausschreibungsradar.com/ausschreibung/fe1f8951-afd5-45dc-8be6-6975b6e6d352/
URL:https://ausschreibungsradar.com/ausschreibung/fe1f8951-afd5-45dc-8be6-6975b6e6d352/
END:VEVENT
END:VCALENDAR
