BEGIN:VCALENDAR
VERSION:2.0
PRODID:-//AusschreibungsRadar//Timeline//DE
CALSCALE:GREGORIAN
METHOD:PUBLISH
X-WR-CALNAME:Projekt Baumpflegearbeiten Stadt Laage und Gemeinde Wardow
X-WR-TIMEZONE:Europe/Berlin
BEGIN:VEVENT
UID:89f2bee068ce7410@ausschreibungsradar.com
DTSTAMP:20260426T004314Z
DTSTART;VALUE=DATE:20240906
DTEND;VALUE=DATE:20240906
SUMMARY:Angebotsfrist — Baumpflegearbeiten Stadt Laage und Gemeinde Wardow
DESCRIPTION:Phase: Ausschreibung | Beschreibung: Angebote werden eingeholt | Link: https://ausschreibungsradar.com/ausschreibung/56cd20f9-dfbd-46c9-a3af-3c6053d4ee42/
URL:https://ausschreibungsradar.com/ausschreibung/56cd20f9-dfbd-46c9-a3af-3c6053d4ee42/
END:VEVENT
BEGIN:VEVENT
UID:e3682b4d562d4cb5@ausschreibungsradar.com
DTSTAMP:20260426T004314Z
DTSTART;VALUE=DATE:20241219
DTEND;VALUE=DATE:20241219
SUMMARY:Vergabeergebnis — Baumpflegearbeiten Stadt Laage und Gemeinde Wardow
DESCRIPTION:Phase: Vergabeergebnis | Beschreibung: Auftrag wurde zugeschlagen | Link: https://ausschreibungsradar.com/ausschreibung/6cd6cc4d-aabf-4a21-a6f9-464aefd887b7/
URL:https://ausschreibungsradar.com/ausschreibung/6cd6cc4d-aabf-4a21-a6f9-464aefd887b7/
END:VEVENT
END:VCALENDAR
