BEGIN:VCALENDAR
VERSION:2.0
PRODID:-//AusschreibungsRadar//Timeline//DE
CALSCALE:GREGORIAN
METHOD:PUBLISH
X-WR-CALNAME:Projekt Tischlerarbeiten Erweiterungsbau
X-WR-TIMEZONE:Europe/Berlin
BEGIN:VEVENT
UID:299d7e4949b708e1@ausschreibungsradar.com
DTSTAMP:20260424T135149Z
DTSTART;VALUE=DATE:20260122
DTEND;VALUE=DATE:20260122
SUMMARY:Angebotsfrist — Tischlerarbeiten Erweiterungsbau
DESCRIPTION:Phase: Ausschreibung | Beschreibung: Angebote werden eingeholt | Link: https://ausschreibungsradar.com/ausschreibung/6cdec391-58a3-44a7-ba18-a56295ee455c/
URL:https://ausschreibungsradar.com/ausschreibung/6cdec391-58a3-44a7-ba18-a56295ee455c/
END:VEVENT
END:VCALENDAR
