BEGIN:VCALENDAR
VERSION:2.0
PRODID:-//AusschreibungsRadar//Timeline//DE
CALSCALE:GREGORIAN
METHOD:PUBLISH
X-WR-CALNAME:Projekt Rahmenvertrag museale Serviceleistungen (Aufsichten und Tick
X-WR-TIMEZONE:Europe/Berlin
BEGIN:VEVENT
UID:5a00bb7e19fedbce@ausschreibungsradar.com
DTSTAMP:20260424T062740Z
DTSTART;VALUE=DATE:20240709
DTEND;VALUE=DATE:20240709
SUMMARY:Ausschreibung — Rahmenvertrag museale Serviceleistungen (Aufsichten und Tick
DESCRIPTION:Phase: Ausschreibung | Beschreibung: Angebote werden eingeholt | Link: https://ausschreibungsradar.com/ausschreibung/6d022cda-2bca-4f78-83ba-da6349f08aa8/
URL:https://ausschreibungsradar.com/ausschreibung/6d022cda-2bca-4f78-83ba-da6349f08aa8/
END:VEVENT
BEGIN:VEVENT
UID:8e4b1b02d540c86a@ausschreibungsradar.com
DTSTAMP:20260424T062740Z
DTSTART;VALUE=DATE:20241008
DTEND;VALUE=DATE:20241008
SUMMARY:Vergabeergebnis — Rahmenvertrag museale Serviceleistungen (Aufsichten und Tick
DESCRIPTION:Phase: Vergabeergebnis | Beschreibung: Auftrag wurde zugeschlagen | Link: https://ausschreibungsradar.com/ausschreibung/bcd08629-34fd-4542-9d04-764d9a641abf/
URL:https://ausschreibungsradar.com/ausschreibung/bcd08629-34fd-4542-9d04-764d9a641abf/
END:VEVENT
END:VCALENDAR
