BEGIN:VCALENDAR
VERSION:2.0
PRODID:-//AusschreibungsRadar//Timeline//DE
CALSCALE:GREGORIAN
METHOD:PUBLISH
X-WR-CALNAME:Projekt Personenbeförderung mit Omnibussen nach dem PBefG: MVV-Regio
X-WR-TIMEZONE:Europe/Berlin
BEGIN:VEVENT
UID:05976a9308df95e2@ausschreibungsradar.com
DTSTAMP:20260425T182416Z
DTSTART;VALUE=DATE:20251129
DTEND;VALUE=DATE:20251129
SUMMARY:Zuschlag — Personenbeförderung mit Omnibussen nach dem PBefG: MVV-Regio
DESCRIPTION:Phase: Zuschlag | Beschreibung: Vergabeergebnis — Auftrag wurde erteilt oder Verfahren beendet. | Link: https://ausschreibungsradar.com/ausschreibung/6d43ff53-4e97-4866-ab33-1b6da5c8dbb3/
URL:https://ausschreibungsradar.com/ausschreibung/6d43ff53-4e97-4866-ab33-1b6da5c8dbb3/
END:VEVENT
BEGIN:VEVENT
UID:63b332f760abbde6@ausschreibungsradar.com
DTSTAMP:20260425T182416Z
DTSTART;VALUE=DATE:20251130
DTEND;VALUE=DATE:20251130
SUMMARY:Zuschlag — Personenbeförderung mit Omnibussen nach dem PBefG: MVV-Regio
DESCRIPTION:Phase: Zuschlag | Beschreibung: Vergabeergebnis — Auftrag wurde erteilt oder Verfahren beendet. | Link: https://ausschreibungsradar.com/ausschreibung/29e81195-d672-43a5-998b-8f31770320ed/
URL:https://ausschreibungsradar.com/ausschreibung/29e81195-d672-43a5-998b-8f31770320ed/
END:VEVENT
END:VCALENDAR
