BEGIN:VCALENDAR
VERSION:2.0
PRODID:-//AusschreibungsRadar//Timeline//DE
CALSCALE:GREGORIAN
METHOD:PUBLISH
X-WR-CALNAME:Projekt Erweiterung und Sanierung des Kindergartens St. Martin
X-WR-TIMEZONE:Europe/Berlin
BEGIN:VEVENT
UID:0861cc9d7b1267e3@ausschreibungsradar.com
DTSTAMP:20260424T051112Z
DTSTART;VALUE=DATE:20250116
DTEND;VALUE=DATE:20250116
SUMMARY:Ausschreibung — Erweiterung und Sanierung des Kindergartens St. Martin
DESCRIPTION:Phase: Ausschreibung | Beschreibung: Offizielle Ausschreibung mit Bieterfrist. | Link: https://ausschreibungsradar.com/ausschreibung/e19f7210-2935-4f65-8dc5-591e2ba56ca7/
URL:https://ausschreibungsradar.com/ausschreibung/e19f7210-2935-4f65-8dc5-591e2ba56ca7/
END:VEVENT
BEGIN:VEVENT
UID:7f688b76b9359134@ausschreibungsradar.com
DTSTAMP:20260424T051112Z
DTSTART;VALUE=DATE:20250123
DTEND;VALUE=DATE:20250123
SUMMARY:Ausschreibung — Erweiterung und Sanierung des Kindergartens St. Martin
DESCRIPTION:Phase: Ausschreibung | Beschreibung: Offizielle Ausschreibung mit Bieterfrist. | Link: https://ausschreibungsradar.com/ausschreibung/1638fc41-c269-4132-bb5c-6f31571d14e2/
URL:https://ausschreibungsradar.com/ausschreibung/1638fc41-c269-4132-bb5c-6f31571d14e2/
END:VEVENT
BEGIN:VEVENT
UID:6cdf58df2821ae9b@ausschreibungsradar.com
DTSTAMP:20260424T051112Z
DTSTART;VALUE=DATE:20250123
DTEND;VALUE=DATE:20250123
SUMMARY:Ausschreibung — Erweiterung und Sanierung des Kindergartens St. Martin
DESCRIPTION:Phase: Ausschreibung | Beschreibung: Offizielle Ausschreibung mit Bieterfrist. | Link: https://ausschreibungsradar.com/ausschreibung/c6c25ba1-ed6a-418f-ba30-93292f1a33bf/
URL:https://ausschreibungsradar.com/ausschreibung/c6c25ba1-ed6a-418f-ba30-93292f1a33bf/
END:VEVENT
BEGIN:VEVENT
UID:616459099f61e2cc@ausschreibungsradar.com
DTSTAMP:20260424T051112Z
DTSTART;VALUE=DATE:20250207
DTEND;VALUE=DATE:20250207
SUMMARY:Ausschreibung — Erweiterung und Sanierung des Kindergartens St. Martin
DESCRIPTION:Phase: Ausschreibung | Beschreibung: Angebote werden eingeholt | Link: https://ausschreibungsradar.com/ausschreibung/6d5ea27b-880e-45b3-9d92-874ec07568c3/
URL:https://ausschreibungsradar.com/ausschreibung/6d5ea27b-880e-45b3-9d92-874ec07568c3/
END:VEVENT
BEGIN:VEVENT
UID:4a3c3a2b76523632@ausschreibungsradar.com
DTSTAMP:20260424T051112Z
DTSTART;VALUE=DATE:20250207
DTEND;VALUE=DATE:20250207
SUMMARY:Ausschreibung — Erweiterung und Sanierung des Kindergartens St. Martin
DESCRIPTION:Phase: Ausschreibung | Beschreibung: Offizielle Ausschreibung mit Bieterfrist. | Link: https://ausschreibungsradar.com/ausschreibung/cc37b710-c2e0-4d33-b145-4adae3f82efb/
URL:https://ausschreibungsradar.com/ausschreibung/cc37b710-c2e0-4d33-b145-4adae3f82efb/
END:VEVENT
BEGIN:VEVENT
UID:321071981d6d6eca@ausschreibungsradar.com
DTSTAMP:20260424T051112Z
DTSTART;VALUE=DATE:20250623
DTEND;VALUE=DATE:20250623
SUMMARY:Vergabeergebnis — Erweiterung und Sanierung des Kindergartens St. Martin
DESCRIPTION:Phase: Vergabeergebnis | Beschreibung: Auftrag wurde zugeschlagen | Link: https://ausschreibungsradar.com/ausschreibung/94ea736b-163b-40b9-a1e1-da699b5ebafb/
URL:https://ausschreibungsradar.com/ausschreibung/94ea736b-163b-40b9-a1e1-da699b5ebafb/
END:VEVENT
END:VCALENDAR
