BEGIN:VCALENDAR
VERSION:2.0
PRODID:-//AusschreibungsRadar//Timeline//DE
CALSCALE:GREGORIAN
METHOD:PUBLISH
X-WR-CALNAME:Projekt Neubau Kupferblümchen: Los 1 - Rohbau
X-WR-TIMEZONE:Europe/Berlin
BEGIN:VEVENT
UID:6327c9cfaa47f6e6@ausschreibungsradar.com
DTSTAMP:20260424T181049Z
DTSTART;VALUE=DATE:20250627
DTEND;VALUE=DATE:20250627
SUMMARY:Angebotsfrist — Neubau Kupferblümchen: Los 1 - Rohbau
DESCRIPTION:Phase: Ausschreibung | Beschreibung: Angebote werden eingeholt | Link: https://ausschreibungsradar.com/ausschreibung/6d8e741d-e4e5-4825-b4b4-8438c886837d/
URL:https://ausschreibungsradar.com/ausschreibung/6d8e741d-e4e5-4825-b4b4-8438c886837d/
END:VEVENT
BEGIN:VEVENT
UID:2aaf7ecf633ade33@ausschreibungsradar.com
DTSTAMP:20260424T181049Z
DTSTART;VALUE=DATE:20250627
DTEND;VALUE=DATE:20250627
SUMMARY:Änderung — Neubau Kupferblümchen: Los 1 - Rohbau
DESCRIPTION:Phase: Änderung | Beschreibung: Ausschreibung wurde angepasst | Link: https://ausschreibungsradar.com/ausschreibung/6d8e741d-e4e5-4825-b4b4-8438c886837d/
URL:https://ausschreibungsradar.com/ausschreibung/6d8e741d-e4e5-4825-b4b4-8438c886837d/
END:VEVENT
END:VCALENDAR
