BEGIN:VCALENDAR
VERSION:2.0
PRODID:-//AusschreibungsRadar//Timeline//DE
CALSCALE:GREGORIAN
METHOD:PUBLISH
X-WR-CALNAME:Projekt Umbau Verwaltungsgebäude Saline 1, Bad Friedrichshall
X-WR-TIMEZONE:Europe/Berlin
BEGIN:VEVENT
UID:850feefb44406658@ausschreibungsradar.com
DTSTAMP:20260424T073445Z
DTSTART;VALUE=DATE:20250129
DTEND;VALUE=DATE:20250129
SUMMARY:Ausschreibung — Umbau Verwaltungsgebäude Saline 1\, Bad Friedrichshall
DESCRIPTION:Phase: Ausschreibung | Beschreibung: Angebote werden eingeholt | Link: https://ausschreibungsradar.com/ausschreibung/363e3316-94e5-4810-ade1-5d5d315efc2c/
URL:https://ausschreibungsradar.com/ausschreibung/363e3316-94e5-4810-ade1-5d5d315efc2c/
END:VEVENT
BEGIN:VEVENT
UID:1f2bfb77bf2960ca@ausschreibungsradar.com
DTSTAMP:20260424T073445Z
DTSTART;VALUE=DATE:20250129
DTEND;VALUE=DATE:20250129
SUMMARY:Ausschreibung — Umbau Verwaltungsgebäude Saline 1\, Bad Friedrichshall
DESCRIPTION:Phase: Ausschreibung | Beschreibung: Offizielle Ausschreibung mit Bieterfrist. | Link: https://ausschreibungsradar.com/ausschreibung/8ec563e5-456a-42cd-9cad-5a239bb2e3d4/
URL:https://ausschreibungsradar.com/ausschreibung/8ec563e5-456a-42cd-9cad-5a239bb2e3d4/
END:VEVENT
BEGIN:VEVENT
UID:32e303371dd85efb@ausschreibungsradar.com
DTSTAMP:20260424T073445Z
DTSTART;VALUE=DATE:20250619
DTEND;VALUE=DATE:20250619
SUMMARY:Vergabeergebnis — Umbau Verwaltungsgebäude Saline 1\, Bad Friedrichshall
DESCRIPTION:Phase: Vergabeergebnis | Beschreibung: Auftrag wurde zugeschlagen | Link: https://ausschreibungsradar.com/ausschreibung/6de98e5b-8b23-4c6a-98d7-877f66d13cdc/
URL:https://ausschreibungsradar.com/ausschreibung/6de98e5b-8b23-4c6a-98d7-877f66d13cdc/
END:VEVENT
BEGIN:VEVENT
UID:93cfa2fcab3c82f4@ausschreibungsradar.com
DTSTAMP:20260424T073445Z
DTSTART;VALUE=DATE:20250619
DTEND;VALUE=DATE:20250619
SUMMARY:Zuschlag — Umbau Verwaltungsgebäude Saline 1\, Bad Friedrichshall
DESCRIPTION:Phase: Zuschlag | Beschreibung: Vergabeergebnis — Auftrag wurde erteilt oder Verfahren beendet. | Link: https://ausschreibungsradar.com/ausschreibung/7b8ebf39-9ca5-4c24-9ff8-f0a13ff5f96a/
URL:https://ausschreibungsradar.com/ausschreibung/7b8ebf39-9ca5-4c24-9ff8-f0a13ff5f96a/
END:VEVENT
BEGIN:VEVENT
UID:87ff11c11b1a6272@ausschreibungsradar.com
DTSTAMP:20260424T073445Z
DTSTART;VALUE=DATE:20250619
DTEND;VALUE=DATE:20250619
SUMMARY:Zuschlag — Umbau Verwaltungsgebäude Saline 1\, Bad Friedrichshall
DESCRIPTION:Phase: Zuschlag | Beschreibung: Vergabeergebnis — Auftrag wurde erteilt oder Verfahren beendet. | Link: https://ausschreibungsradar.com/ausschreibung/2b2e5429-6c05-48b2-acb1-fd3d3867b86a/
URL:https://ausschreibungsradar.com/ausschreibung/2b2e5429-6c05-48b2-acb1-fd3d3867b86a/
END:VEVENT
BEGIN:VEVENT
UID:2ab9ca246d65f122@ausschreibungsradar.com
DTSTAMP:20260424T073445Z
DTSTART;VALUE=DATE:20250619
DTEND;VALUE=DATE:20250619
SUMMARY:Zuschlag — Umbau Verwaltungsgebäude Saline 1\, Bad Friedrichshall
DESCRIPTION:Phase: Zuschlag | Beschreibung: Vergabeergebnis — Auftrag wurde erteilt oder Verfahren beendet. | Link: https://ausschreibungsradar.com/ausschreibung/db2f8c12-91f8-4b4c-99f8-9c7df664b5a7/
URL:https://ausschreibungsradar.com/ausschreibung/db2f8c12-91f8-4b4c-99f8-9c7df664b5a7/
END:VEVENT
END:VCALENDAR
