BEGIN:VCALENDAR
VERSION:2.0
PRODID:-//AusschreibungsRadar//Timeline//DE
CALSCALE:GREGORIAN
METHOD:PUBLISH
X-WR-CALNAME:Projekt Mini-Bioreaktorsystem
X-WR-TIMEZONE:Europe/Berlin
BEGIN:VEVENT
UID:af7cfc406aca4239@ausschreibungsradar.com
DTSTAMP:20260424T181122Z
DTSTART;VALUE=DATE:20251024
DTEND;VALUE=DATE:20251024
SUMMARY:Angebotsfrist — Mini-Bioreaktorsystem
DESCRIPTION:Phase: Ausschreibung | Beschreibung: Angebote werden eingeholt | Link: https://ausschreibungsradar.com/ausschreibung/6dfc5cd8-cdc6-42f9-bbd4-3c4fff410f22/
URL:https://ausschreibungsradar.com/ausschreibung/6dfc5cd8-cdc6-42f9-bbd4-3c4fff410f22/
END:VEVENT
BEGIN:VEVENT
UID:5a158ca4f8664901@ausschreibungsradar.com
DTSTAMP:20260424T181122Z
DTSTART;VALUE=DATE:20251125
DTEND;VALUE=DATE:20251125
SUMMARY:Vergabeergebnis — Mini-Bioreaktorsystem
DESCRIPTION:Phase: Vergabeergebnis | Beschreibung: Auftrag wurde zugeschlagen | Link: https://ausschreibungsradar.com/ausschreibung/c9e900f4-49b5-4970-b0d8-942ec4aa6d59/
URL:https://ausschreibungsradar.com/ausschreibung/c9e900f4-49b5-4970-b0d8-942ec4aa6d59/
END:VEVENT
END:VCALENDAR
