BEGIN:VCALENDAR
VERSION:2.0
PRODID:-//AusschreibungsRadar//Timeline//DE
CALSCALE:GREGORIAN
METHOD:PUBLISH
X-WR-CALNAME:Projekt KN, HAF Optimierung Hebepumpwerk, Los 1, Umbau Pumpensumpf (
X-WR-TIMEZONE:Europe/Berlin
BEGIN:VEVENT
UID:7fd569aa784c791e@ausschreibungsradar.com
DTSTAMP:20260425T145553Z
DTSTART;VALUE=DATE:20251014
DTEND;VALUE=DATE:20251014
SUMMARY:Angebotsfrist — KN\, HAF Optimierung Hebepumpwerk\, Los 1\, Umbau Pumpensumpf (
DESCRIPTION:Phase: Ausschreibung | Beschreibung: Angebote werden eingeholt | Link: https://ausschreibungsradar.com/ausschreibung/b372b7f3-15ab-495d-a0cc-d14ccf7c1594/
URL:https://ausschreibungsradar.com/ausschreibung/b372b7f3-15ab-495d-a0cc-d14ccf7c1594/
END:VEVENT
BEGIN:VEVENT
UID:94dab90db1826a40@ausschreibungsradar.com
DTSTAMP:20260425T145553Z
DTSTART;VALUE=DATE:20250820
DTEND;VALUE=DATE:20250820
SUMMARY:Ausschreibung — KN\, HAF Optimierung Hebepumpwerk\, Los 1\, Umbau Pumpensumpf (
DESCRIPTION:Phase: Ausschreibung | Beschreibung: Offizielle Ausschreibung mit Bieterfrist. | Link: https://ausschreibungsradar.com/ausschreibung/a73f692e-9f8a-4b53-99e9-11ea4ff39a33/
URL:https://ausschreibungsradar.com/ausschreibung/a73f692e-9f8a-4b53-99e9-11ea4ff39a33/
END:VEVENT
BEGIN:VEVENT
UID:8eeb15f99ed67131@ausschreibungsradar.com
DTSTAMP:20260425T145553Z
DTSTART;VALUE=DATE:20250820
DTEND;VALUE=DATE:20250820
SUMMARY:Ausschreibung — KN\, HAF Optimierung Hebepumpwerk\, Los 1\, Umbau Pumpensumpf (
DESCRIPTION:Phase: Ausschreibung | Beschreibung: Offizielle Ausschreibung mit Bieterfrist. | Link: https://ausschreibungsradar.com/ausschreibung/f16aa700-1dc5-4fb1-8499-b47a4eb1b36d/
URL:https://ausschreibungsradar.com/ausschreibung/f16aa700-1dc5-4fb1-8499-b47a4eb1b36d/
END:VEVENT
BEGIN:VEVENT
UID:a03f11696f2fd72b@ausschreibungsradar.com
DTSTAMP:20260425T145553Z
DTSTART;VALUE=DATE:20251218
DTEND;VALUE=DATE:20251218
SUMMARY:Vergabeergebnis — KN\, HAF Optimierung Hebepumpwerk\, Los 1\, Umbau Pumpensumpf (
DESCRIPTION:Phase: Vergabeergebnis | Beschreibung: Auftrag wurde zugeschlagen | Link: https://ausschreibungsradar.com/ausschreibung/6e81488a-d055-4987-b5eb-07a8c0eb6df8/
URL:https://ausschreibungsradar.com/ausschreibung/6e81488a-d055-4987-b5eb-07a8c0eb6df8/
END:VEVENT
END:VCALENDAR
