BEGIN:VCALENDAR
VERSION:2.0
PRODID:-//AusschreibungsRadar//Timeline//DE
CALSCALE:GREGORIAN
METHOD:PUBLISH
X-WR-CALNAME:Projekt 25E0001 - Dachbegrünung
X-WR-TIMEZONE:Europe/Berlin
BEGIN:VEVENT
UID:5bbbc2a955138ac1@ausschreibungsradar.com
DTSTAMP:20260425T034456Z
DTSTART;VALUE=DATE:20250312
DTEND;VALUE=DATE:20250312
SUMMARY:Angebotsfrist — 25E0001 - Dachbegrünung
DESCRIPTION:Phase: Ausschreibung | Beschreibung: Angebote werden eingeholt | Link: https://ausschreibungsradar.com/ausschreibung/6e8611f9-c7b1-47ac-b84c-61d91b4c78ea/ | Geschätzter Wert: 44498 €
URL:https://ausschreibungsradar.com/ausschreibung/6e8611f9-c7b1-47ac-b84c-61d91b4c78ea/
END:VEVENT
BEGIN:VEVENT
UID:1b98437a5b125154@ausschreibungsradar.com
DTSTAMP:20260425T034456Z
DTSTART;VALUE=DATE:20250523
DTEND;VALUE=DATE:20250523
SUMMARY:Vergabeergebnis — 25E0001 - Dachbegrünung
DESCRIPTION:Phase: Vergabeergebnis | Beschreibung: Auftrag wurde zugeschlagen | Link: https://ausschreibungsradar.com/ausschreibung/c984fa66-2a15-475e-bf8c-18e4d6d720b0/ | Auftragnehmer: Seelennahrung GmbH
URL:https://ausschreibungsradar.com/ausschreibung/c984fa66-2a15-475e-bf8c-18e4d6d720b0/
END:VEVENT
END:VCALENDAR
