BEGIN:VCALENDAR
VERSION:2.0
PRODID:-//AusschreibungsRadar//Timeline//DE
CALSCALE:GREGORIAN
METHOD:PUBLISH
X-WR-CALNAME:Projekt Neubau E-Busbetriebshofes in der Franz-Schubert-Str. 3,
Lade
X-WR-TIMEZONE:Europe/Berlin
BEGIN:VEVENT
UID:2f3e609891738d75@ausschreibungsradar.com
DTSTAMP:20260425T202437Z
DTSTART;VALUE=DATE:20240429
DTEND;VALUE=DATE:20240429
SUMMARY:Angebotsfrist — Neubau E-Busbetriebshofes in der Franz-Schubert-Str. 3\,\nLade
DESCRIPTION:Phase: Ausschreibung | Beschreibung: Angebote werden eingeholt | Link: https://ausschreibungsradar.com/ausschreibung/6ebc8969-dac6-451f-93a4-fe02da9bd000/
URL:https://ausschreibungsradar.com/ausschreibung/6ebc8969-dac6-451f-93a4-fe02da9bd000/
END:VEVENT
BEGIN:VEVENT
UID:5417e749b0a0d699@ausschreibungsradar.com
DTSTAMP:20260425T202437Z
DTSTART;VALUE=DATE:20240704
DTEND;VALUE=DATE:20240704
SUMMARY:Vergabeergebnis — Neubau E-Busbetriebshofes in der Franz-Schubert-Str. 3\,\nLade
DESCRIPTION:Phase: Vergabeergebnis | Beschreibung: Auftrag wurde zugeschlagen | Link: https://ausschreibungsradar.com/ausschreibung/b77a280b-b8b9-4602-9657-a694da424ecd/ | Auftragnehmer: Omexom Frankenluk GmbH
URL:https://ausschreibungsradar.com/ausschreibung/b77a280b-b8b9-4602-9657-a694da424ecd/
END:VEVENT
END:VCALENDAR
