BEGIN:VCALENDAR
VERSION:2.0
PRODID:-//AusschreibungsRadar//Timeline//DE
CALSCALE:GREGORIAN
METHOD:PUBLISH
X-WR-CALNAME:Projekt Neubau Generationenhaus, Malterdingen - Bodenbelagsarbeiten
X-WR-TIMEZONE:Europe/Berlin
BEGIN:VEVENT
UID:6a7cde65f209ab44@ausschreibungsradar.com
DTSTAMP:20260425T213437Z
DTSTART;VALUE=DATE:20240820
DTEND;VALUE=DATE:20240820
SUMMARY:Angebotsfrist — Neubau Generationenhaus\, Malterdingen - Bodenbelagsarbeiten
DESCRIPTION:Phase: Ausschreibung | Beschreibung: Angebote werden eingeholt | Link: https://ausschreibungsradar.com/ausschreibung/6f1c7da7-7e7f-41f1-adfa-73d1fb423dec/
URL:https://ausschreibungsradar.com/ausschreibung/6f1c7da7-7e7f-41f1-adfa-73d1fb423dec/
END:VEVENT
BEGIN:VEVENT
UID:09d7b83c727b2a0d@ausschreibungsradar.com
DTSTAMP:20260425T213437Z
DTSTART;VALUE=DATE:20240724
DTEND;VALUE=DATE:20240724
SUMMARY:Vergabeergebnis — Neubau Generationenhaus\, Malterdingen - Bodenbelagsarbeiten
DESCRIPTION:Phase: Vergabeergebnis | Beschreibung: Verfahren beendet ohne Vergabe | Link: https://ausschreibungsradar.com/ausschreibung/a0c5ac47-a3f0-463f-bf64-7abfed3582b4/
URL:https://ausschreibungsradar.com/ausschreibung/a0c5ac47-a3f0-463f-bf64-7abfed3582b4/
END:VEVENT
END:VCALENDAR
